BEGIN:VCALENDAR
VERSION:2.0
PRODID:-//Visit Pikeville - ECPv6.15.20//NONSGML v1.0//EN
CALSCALE:GREGORIAN
METHOD:PUBLISH
X-WR-CALNAME:Visit Pikeville
X-ORIGINAL-URL:https://visitpikeville.com
X-WR-CALDESC:Events for Visit Pikeville
REFRESH-INTERVAL;VALUE=DURATION:PT1H
X-Robots-Tag:noindex
X-PUBLISHED-TTL:PT1H
BEGIN:VTIMEZONE
TZID:America/Kentucky/Louisville
BEGIN:DAYLIGHT
TZOFFSETFROM:-0500
TZOFFSETTO:-0400
TZNAME:EDT
DTSTART:20230312T070000
END:DAYLIGHT
BEGIN:STANDARD
TZOFFSETFROM:-0400
TZOFFSETTO:-0500
TZNAME:EST
DTSTART:20231105T060000
END:STANDARD
BEGIN:DAYLIGHT
TZOFFSETFROM:-0500
TZOFFSETTO:-0400
TZNAME:EDT
DTSTART:20240310T070000
END:DAYLIGHT
BEGIN:STANDARD
TZOFFSETFROM:-0400
TZOFFSETTO:-0500
TZNAME:EST
DTSTART:20241103T060000
END:STANDARD
BEGIN:DAYLIGHT
TZOFFSETFROM:-0500
TZOFFSETTO:-0400
TZNAME:EDT
DTSTART:20250309T070000
END:DAYLIGHT
BEGIN:STANDARD
TZOFFSETFROM:-0400
TZOFFSETTO:-0500
TZNAME:EST
DTSTART:20251102T060000
END:STANDARD
BEGIN:DAYLIGHT
TZOFFSETFROM:-0500
TZOFFSETTO:-0400
TZNAME:EDT
DTSTART:20260308T070000
END:DAYLIGHT
BEGIN:STANDARD
TZOFFSETFROM:-0400
TZOFFSETTO:-0500
TZNAME:EST
DTSTART:20261101T060000
END:STANDARD
END:VTIMEZONE
BEGIN:VEVENT
DTSTART;TZID=America/Kentucky/Louisville:20241223T080000
DTEND;TZID=America/Kentucky/Louisville:20250118T200000
DTSTAMP:20260424T163616
CREATED:20241223T133723Z
LAST-MODIFIED:20241223T133723Z
UID:61125-1734940800-1737230400@visitpikeville.com
SUMMARY:2025 design contest
DESCRIPTION:“Your Story Begins Here” 2025 design contest!\n\n\nOpen to all ages. Submit your art to Shannon@theapparts.org\n\n\nIf your design is chosen\, it will be featured on our 2025 APP T-Shirts!\n\n\nDeadline for entry is January 18 at 10 PM
URL:https://visitpikeville.com/event/2025-design-contest/
LOCATION:Appalachian Center for the Arts\, 218 2nd St\,\, Pikeville\, Ky\, 41501
CATEGORIES:The Appalachian Center for the Arts
ATTACH;FMTTYPE=image/jpeg:https://visitpikeville.com/wp-content/uploads/2024/12/design.jpg
END:VEVENT
BEGIN:VEVENT
DTSTART;TZID=America/Kentucky/Louisville:20250115T090000
DTEND;TZID=America/Kentucky/Louisville:20250119T100000
DTSTAMP:20260424T163616
CREATED:20250113T133512Z
LAST-MODIFIED:20250113T133512Z
UID:61972-1736931600-1737280800@visitpikeville.com
SUMMARY:Septic Installer Classes
DESCRIPTION:For more information call: 606-437-5500
URL:https://visitpikeville.com/event/septic-installer-classes/
LOCATION:Pike County Health Department\, 119 River Drive\,\, Pikeville\, KY\, 41501\, United States
CATEGORIES:Pike County Health Department
ATTACH;FMTTYPE=image/jpeg:https://visitpikeville.com/wp-content/uploads/2025/01/septic.jpg
END:VEVENT
BEGIN:VEVENT
DTSTART;TZID=America/Kentucky/Louisville:20250115T171500
DTEND;TZID=America/Kentucky/Louisville:20250115T183000
DTSTAMP:20260424T163616
CREATED:20250102T143832Z
LAST-MODIFIED:20250102T143832Z
UID:61482-1736961300-1736965800@visitpikeville.com
SUMMARY:Adult Acting (ages 18+)
DESCRIPTION:January 13th-February 13th | $100 for semester\nMeets Mondays & Wednesdays\, 5:15-6:30 pm\nPerformance: February 13th\, 2025\nTaught by Claudia Dahlman \n\n\n\n\nAdult Acting: Scene Study- In this class\, actors of all levels will sharpen their craft by diving deep into scene work\, character development\, and creating an honest and multidimensional character based on the text. We’ll delve into techniques for understanding the dynamics of relationships within a scene and how to portray intentions and actions in a performance. We will be covering numerous scenes to present to the community at the end of the semester
URL:https://visitpikeville.com/event/adult-acting-ages-18-3-2/
LOCATION:Appalachian Center for the Arts\, 218 2nd St\,\, Pikeville\, Ky\, 41501
CATEGORIES:The Appalachian Center for the Arts
ATTACH;FMTTYPE=image/webp:https://visitpikeville.com/wp-content/uploads/2025/01/winter-25-classes.webp
END:VEVENT
BEGIN:VEVENT
DTSTART;TZID=America/Kentucky/Louisville:20250115T183000
DTEND;TZID=America/Kentucky/Louisville:20250115T200000
DTSTAMP:20260424T163616
CREATED:20250102T143039Z
LAST-MODIFIED:20250102T143039Z
UID:61461-1736965800-1736971200@visitpikeville.com
SUMMARY:Musical Theatre Ensembles (ages 9-18)
DESCRIPTION:January 13th – February 13th | $100 for semester\nMeets Mondays-Wednesdays 6:30-8:00 pm\nPerformance: February 13th\, 2025?\nTaught by Brian Bush and Daniela Velasquez \n\n\n\n\nThis class is dedicated to developing key ensemble skills for musical theatre performance. Musical theatre\, by nature\, combines three key elements: acting\, singing\, and dance. This class aims to explore all these aspects through the performance of an iconic musical theatre ensemble number. In this piece\, students will learn music\, choreography\, and dig into the storytelling that the song requires. This semester\, the class will also feature an audition focus. Students will be asked to prepare a 16-32 bar cut of a musical theatre song to be used for an audition. This piece will be worked on during class with the instructors. Ultimately\, these pieces will be shown to the community on a final “sharing” day. Join us for a fantastic dive into the world of group work in musical theatre!
URL:https://visitpikeville.com/event/musical-theatre-ensembles-ages-9-18-3-2/
LOCATION:Appalachian Center for the Arts\, 218 2nd St\,\, Pikeville\, Ky\, 41501
CATEGORIES:The Appalachian Center for the Arts
ATTACH;FMTTYPE=image/webp:https://visitpikeville.com/wp-content/uploads/2025/01/winter-25-classes.webp
END:VEVENT
BEGIN:VEVENT
DTSTART;TZID=America/Kentucky/Louisville:20250115T190000
DTEND;TZID=America/Kentucky/Louisville:20250115T220000
DTSTAMP:20260424T163616
CREATED:20250102T154613Z
LAST-MODIFIED:20250102T154613Z
UID:61563-1736967600-1736978400@visitpikeville.com
SUMMARY:Open Mic
DESCRIPTION:Hosted By Johnny Pop Day
URL:https://visitpikeville.com/event/open-mic-2-2/
LOCATION:Pearse’s Place\, 224 2nd St\,\, Pikeville\, KY\, 41501\, United States
CATEGORIES:Other
ATTACH;FMTTYPE=image/jpeg:https://visitpikeville.com/wp-content/uploads/2025/01/open-mic.jpg
END:VEVENT
BEGIN:VEVENT
DTSTART;TZID=America/Kentucky/Louisville:20250115T200000
DTEND;TZID=America/Kentucky/Louisville:20250115T210000
DTSTAMP:20260424T163616
CREATED:20250102T135503Z
LAST-MODIFIED:20250102T135503Z
UID:61441-1736971200-1736974800@visitpikeville.com
SUMMARY:Teen Acting (ages 12-18)
DESCRIPTION:January 13th-February 13th | $100 for semester\nMeets Mondays & Wednesdays\, 8:00-9:00 pm\nPerformance: February 13th\, 2025\nTaught by Daniela Velasquez and Claudia Dahlman \n\n\n\n\n\n\nWhether you hope to pursue a career on stage or just want to have fun working with other teens who love theatre\, this class is for you. \nOn stage\, we will learn essential acting techniques and apply them towards monologues and scenes. We will learn how to analyze a script\, and develop an honest\, multi-dimensional character based on the text. \nWhether you are an experienced actor\, or just looking to grow out of your comfort zone\, you will fit in and build your confidence in performing.
URL:https://visitpikeville.com/event/teen-acting-ages-12-18-3-2/
LOCATION:Appalachian Center for the Arts\, 218 2nd St\,\, Pikeville\, Ky\, 41501
CATEGORIES:The Appalachian Center for the Arts
ATTACH;FMTTYPE=image/webp:https://visitpikeville.com/wp-content/uploads/2025/01/winter-25-classes.webp
END:VEVENT
END:VCALENDAR