BEGIN:VCALENDAR
VERSION:2.0
PRODID:-//Visit Pikeville - ECPv6.15.20//NONSGML v1.0//EN
CALSCALE:GREGORIAN
METHOD:PUBLISH
X-ORIGINAL-URL:https://visitpikeville.com
X-WR-CALDESC:Events for Visit Pikeville
REFRESH-INTERVAL;VALUE=DURATION:PT1H
X-Robots-Tag:noindex
X-PUBLISHED-TTL:PT1H
BEGIN:VTIMEZONE
TZID:America/Kentucky/Louisville
BEGIN:DAYLIGHT
TZOFFSETFROM:-0500
TZOFFSETTO:-0400
TZNAME:EDT
DTSTART:20230312T070000
END:DAYLIGHT
BEGIN:STANDARD
TZOFFSETFROM:-0400
TZOFFSETTO:-0500
TZNAME:EST
DTSTART:20231105T060000
END:STANDARD
BEGIN:DAYLIGHT
TZOFFSETFROM:-0500
TZOFFSETTO:-0400
TZNAME:EDT
DTSTART:20240310T070000
END:DAYLIGHT
BEGIN:STANDARD
TZOFFSETFROM:-0400
TZOFFSETTO:-0500
TZNAME:EST
DTSTART:20241103T060000
END:STANDARD
BEGIN:DAYLIGHT
TZOFFSETFROM:-0500
TZOFFSETTO:-0400
TZNAME:EDT
DTSTART:20250309T070000
END:DAYLIGHT
BEGIN:STANDARD
TZOFFSETFROM:-0400
TZOFFSETTO:-0500
TZNAME:EST
DTSTART:20251102T060000
END:STANDARD
BEGIN:DAYLIGHT
TZOFFSETFROM:-0500
TZOFFSETTO:-0400
TZNAME:EDT
DTSTART:20260308T070000
END:DAYLIGHT
BEGIN:STANDARD
TZOFFSETFROM:-0400
TZOFFSETTO:-0500
TZNAME:EST
DTSTART:20261101T060000
END:STANDARD
END:VTIMEZONE
BEGIN:VEVENT
DTSTART;TZID=America/Kentucky/Louisville:20241223T080000
DTEND;TZID=America/Kentucky/Louisville:20250118T200000
DTSTAMP:20260424T163623
CREATED:20241223T133723Z
LAST-MODIFIED:20241223T133723Z
UID:61125-1734940800-1737230400@visitpikeville.com
SUMMARY:2025 design contest
DESCRIPTION:“Your Story Begins Here” 2025 design contest!\n\n\nOpen to all ages. Submit your art to Shannon@theapparts.org\n\n\nIf your design is chosen\, it will be featured on our 2025 APP T-Shirts!\n\n\nDeadline for entry is January 18 at 10 PM
URL:https://visitpikeville.com/event/2025-design-contest/
LOCATION:Appalachian Center for the Arts\, 218 2nd St\,\, Pikeville\, Ky\, 41501
CATEGORIES:The Appalachian Center for the Arts
ATTACH;FMTTYPE=image/jpeg:https://visitpikeville.com/wp-content/uploads/2024/12/design.jpg
END:VEVENT
BEGIN:VEVENT
DTSTART;TZID=America/Kentucky/Louisville:20250102T120000
DTEND;TZID=America/Kentucky/Louisville:20250110T123000
DTSTAMP:20260424T163623
CREATED:20241209T152715Z
LAST-MODIFIED:20241209T152715Z
UID:60703-1735819200-1736512200@visitpikeville.com
SUMMARY:All A Basketball
DESCRIPTION:Jan 02\, 2025\, 12:00 PM – Jan 10\, 2025\, 12:00 PM \nPikeville\, 126 Main St\, Pikeville\, KY 41501\, USA
URL:https://visitpikeville.com/event/all-a-basketball/
LOCATION:Appalachian Wireless Arena\, 126 Main Street\, Pikeville\, Ky\, 41501
CATEGORIES:Appalachian Wireless Arena
ATTACH;FMTTYPE=image/webp:https://visitpikeville.com/wp-content/uploads/2024/12/all-a.webp
END:VEVENT
BEGIN:VEVENT
DTSTART;TZID=America/Kentucky/Louisville:20250103T073000
DTEND;TZID=America/Kentucky/Louisville:20250103T150000
DTSTAMP:20260424T163623
CREATED:20250102T200317Z
LAST-MODIFIED:20250102T200317Z
UID:61650-1735889400-1735916400@visitpikeville.com
SUMMARY:Blood Drive
DESCRIPTION:Upcoming Blood Drive TOMORROW- Friday\, January 3rd!\n\n\nMake a difference in the lives of local cancer patients! Lock it in by making your appointment TODAY at https://my.kybloodcenter.org/…/sch…/drive_schedule/85214
URL:https://visitpikeville.com/event/blood-drive-3/
LOCATION:Pikeville Medical Center\, 911 S Bypass Rd\,\, Pikeville\, KY\, 41501\, United States
CATEGORIES:Pikeville Medical Center
ATTACH;FMTTYPE=image/jpeg:https://visitpikeville.com/wp-content/uploads/2025/01/blood.jpg
END:VEVENT
BEGIN:VEVENT
DTSTART;TZID=America/Kentucky/Louisville:20250103T173000
DTEND;TZID=America/Kentucky/Louisville:20250103T193000
DTSTAMP:20260424T163623
CREATED:20250102T160428Z
LAST-MODIFIED:20250102T160428Z
UID:61578-1735925400-1735932600@visitpikeville.com
SUMMARY:Go Cats
DESCRIPTION:Please send a private message to reserve your spot . Let’s make some Art!
URL:https://visitpikeville.com/event/go-cats/
LOCATION:2 Broke Art Teachers\, 4505 Weddington Square\,\, Pikeville\, KY\, 41501\, United States
CATEGORIES:Other
ATTACH;FMTTYPE=image/jpeg:https://visitpikeville.com/wp-content/uploads/2025/01/cats.jpg
END:VEVENT
END:VCALENDAR