BEGIN:VCALENDAR
VERSION:2.0
PRODID:-//Visit Pikeville - ECPv6.15.20//NONSGML v1.0//EN
CALSCALE:GREGORIAN
METHOD:PUBLISH
X-ORIGINAL-URL:https://visitpikeville.com
X-WR-CALDESC:Events for Visit Pikeville
REFRESH-INTERVAL;VALUE=DURATION:PT1H
X-Robots-Tag:noindex
X-PUBLISHED-TTL:PT1H
BEGIN:VTIMEZONE
TZID:America/Kentucky/Louisville
BEGIN:DAYLIGHT
TZOFFSETFROM:-0500
TZOFFSETTO:-0400
TZNAME:EDT
DTSTART:20230312T070000
END:DAYLIGHT
BEGIN:STANDARD
TZOFFSETFROM:-0400
TZOFFSETTO:-0500
TZNAME:EST
DTSTART:20231105T060000
END:STANDARD
BEGIN:DAYLIGHT
TZOFFSETFROM:-0500
TZOFFSETTO:-0400
TZNAME:EDT
DTSTART:20240310T070000
END:DAYLIGHT
BEGIN:STANDARD
TZOFFSETFROM:-0400
TZOFFSETTO:-0500
TZNAME:EST
DTSTART:20241103T060000
END:STANDARD
BEGIN:DAYLIGHT
TZOFFSETFROM:-0500
TZOFFSETTO:-0400
TZNAME:EDT
DTSTART:20250309T070000
END:DAYLIGHT
BEGIN:STANDARD
TZOFFSETFROM:-0400
TZOFFSETTO:-0500
TZNAME:EST
DTSTART:20251102T060000
END:STANDARD
END:VTIMEZONE
BEGIN:VEVENT
DTSTART;TZID=America/Kentucky/Louisville:20241220T110000
DTEND;TZID=America/Kentucky/Louisville:20241220T130000
DTSTAMP:20260424T214356
CREATED:20241216T162315Z
LAST-MODIFIED:20241216T162315Z
UID:60948-1734692400-1734699600@visitpikeville.com
SUMMARY:Freebie Friday
DESCRIPTION:Please join us in the 2nd Floor Atrium this Friday from 11am-1pm!*Due to limited supplies\, there is a limit of one promotional offer per attendee!
URL:https://visitpikeville.com/event/freebie-friday/
LOCATION:Pikeville Medical Center\, 911 S Bypass Rd\,\, Pikeville\, KY\, 41501\, United States
CATEGORIES:Pikeville Medical Center
ATTACH;FMTTYPE=image/jpeg:https://visitpikeville.com/wp-content/uploads/2024/12/freebie.jpg
END:VEVENT
BEGIN:VEVENT
DTSTART;TZID=America/Kentucky/Louisville:20241220T150000
DTEND;TZID=America/Kentucky/Louisville:20241220T220000
DTSTAMP:20260424T214356
CREATED:20241118T141221Z
LAST-MODIFIED:20241118T141221Z
UID:59877-1734706800-1734732000@visitpikeville.com
SUMMARY:Winterfest
DESCRIPTION:Enjoy holiday magic with ice skating\, carriage rides\, and mini-train rides. Schools\, churches\, and other large groups can contact kevin@appwirelessarena.com for special skate times and group pricing. Don’t miss out on the fun! #visitpikeville
URL:https://visitpikeville.com/event/winterfest-5-2-2-2-2-2-2-2-2-2-2-2/
LOCATION:Pikeville City Park\, 101 Cumberland Ct\,\, Pikeville\, KY\, 41501
CATEGORIES:City of Pikeville,Pikeville Tourism
ATTACH;FMTTYPE=image/jpeg:https://visitpikeville.com/wp-content/uploads/2024/11/winterfest-1.jpg
END:VEVENT
BEGIN:VEVENT
DTSTART;TZID=America/Kentucky/Louisville:20241220T190000
DTEND;TZID=America/Kentucky/Louisville:20241220T220000
DTSTAMP:20260424T214356
CREATED:20241209T144919Z
LAST-MODIFIED:20241209T144919Z
UID:60679-1734721200-1734732000@visitpikeville.com
SUMMARY:Johnny Pop Day
DESCRIPTION:@ Pearse’s Place
URL:https://visitpikeville.com/event/johnny-pop-day-3/
LOCATION:Pearse’s Place\, 224 2nd St\,\, Pikeville\, KY\, 41501\, United States
CATEGORIES:Other
ATTACH;FMTTYPE=image/jpeg:https://visitpikeville.com/wp-content/uploads/2024/12/jhonny.jpg
END:VEVENT
BEGIN:VEVENT
DTSTART;TZID=America/Kentucky/Louisville:20241220T193000
DTEND;TZID=America/Kentucky/Louisville:20241220T213000
DTSTAMP:20260424T214356
CREATED:20231218T140648Z
LAST-MODIFIED:20231218T140648Z
UID:44090-1734723000-1734730200@visitpikeville.com
SUMMARY:App Radio Hour Featuring Miracle On 34th Street
DESCRIPTION:Welcome to the APP Radio Hour\, where we turn back the clock to a time when radio was king! Featuring the classic holiday story of “Miracle on 34th Street”\, this enchanting radio play will transport you to a time when families gathered around the radio to share in the joy of storytelling. As you listen to the timeless tale of Kris Kringle and his belief in the spirit of Christmas\, you’ll also be treated to the tunes of talented local musicians and other variety acts adding an extra layer of charm and festivity to the experience. It’s a perfect blend of classic storytelling and local talent that will leave you with a smile and a song in your heart.
URL:https://visitpikeville.com/event/app-radio-hour-featuring-miracle-on-34th-street-2-2-2/
LOCATION:Appalachian Center for the Arts\, 218 2nd St\,\, Pikeville\, Ky\, 41501
CATEGORIES:The Appalachian Center for the Arts
ATTACH;FMTTYPE=image/webp:https://visitpikeville.com/wp-content/uploads/2023/12/miracle-web-600.webp
END:VEVENT
END:VCALENDAR