BEGIN:VCALENDAR
VERSION:2.0
PRODID:-//Visit Pikeville - ECPv6.15.20//NONSGML v1.0//EN
CALSCALE:GREGORIAN
METHOD:PUBLISH
X-WR-CALNAME:Visit Pikeville
X-ORIGINAL-URL:https://visitpikeville.com
X-WR-CALDESC:Events for Visit Pikeville
REFRESH-INTERVAL;VALUE=DURATION:PT1H
X-Robots-Tag:noindex
X-PUBLISHED-TTL:PT1H
BEGIN:VTIMEZONE
TZID:America/Kentucky/Louisville
BEGIN:DAYLIGHT
TZOFFSETFROM:-0500
TZOFFSETTO:-0400
TZNAME:EDT
DTSTART:20230312T070000
END:DAYLIGHT
BEGIN:STANDARD
TZOFFSETFROM:-0400
TZOFFSETTO:-0500
TZNAME:EST
DTSTART:20231105T060000
END:STANDARD
BEGIN:DAYLIGHT
TZOFFSETFROM:-0500
TZOFFSETTO:-0400
TZNAME:EDT
DTSTART:20240310T070000
END:DAYLIGHT
BEGIN:STANDARD
TZOFFSETFROM:-0400
TZOFFSETTO:-0500
TZNAME:EST
DTSTART:20241103T060000
END:STANDARD
BEGIN:DAYLIGHT
TZOFFSETFROM:-0500
TZOFFSETTO:-0400
TZNAME:EDT
DTSTART:20250309T070000
END:DAYLIGHT
BEGIN:STANDARD
TZOFFSETFROM:-0400
TZOFFSETTO:-0500
TZNAME:EST
DTSTART:20251102T060000
END:STANDARD
END:VTIMEZONE
BEGIN:VEVENT
DTSTART;TZID=America/Kentucky/Louisville:20241219T110000
DTEND;TZID=America/Kentucky/Louisville:20241219T120000
DTSTAMP:20260424T182355
CREATED:20241202T131128Z
LAST-MODIFIED:20241202T131128Z
UID:60338-1734606000-1734609600@visitpikeville.com
SUMMARY:Story Time
DESCRIPTION:tory Time is for children ages 5 and under and features books\, action/movement\, songs\, and a craft. Story Time is held Thursdays at 11:00 and 2:00 and Saturdays at 11:00. \n\n\n\n\n\n\n  \nBesides being fun\, Story Time also helps develop early literacy and school readiness skills through reading\, singing\, listening\, playing\, and social interaction. This program lasts approximately 30 minutes\, and caregivers and children are encouraged to linger in the library afterwards to further socialize and choose books to take home.
URL:https://visitpikeville.com/event/story-time-2-2-2-2-2-2-2-2-2-2-2-2-2-2-2-2-2-2-2-2-2-2-2-2-2-2-2-2-2-2-2-2-2-2-2-2-2-2-2-2-2-2-2-2-2-2-2-2-2-2-2-2-2-2-2-3-2-2-2-2-2-2-2-2-2-2-2-2-2-2-2-2-2-2-2-2-2-2-2-2-2-2-2-2-2/
LOCATION:Pike County Public Library\, 126 Lee Avenue\, Pikeville\, KY\, 41501\, United States
CATEGORIES:Pike County Public Library
ATTACH;FMTTYPE=image/png:https://visitpikeville.com/wp-content/uploads/2023/12/Story_TimeLEE.png
END:VEVENT
BEGIN:VEVENT
DTSTART;TZID=America/Kentucky/Louisville:20241219T140000
DTEND;TZID=America/Kentucky/Louisville:20241219T150000
DTSTAMP:20260424T182355
CREATED:20241202T131159Z
LAST-MODIFIED:20241202T131159Z
UID:60340-1734616800-1734620400@visitpikeville.com
SUMMARY:Story Time
DESCRIPTION:tory Time is for children ages 5 and under and features books\, action/movement\, songs\, and a craft. Story Time is held Thursdays at 11:00 and 2:00 and Saturdays at 11:00. \n\n\n\n\n\n\n  \nBesides being fun\, Story Time also helps develop early literacy and school readiness skills through reading\, singing\, listening\, playing\, and social interaction. This program lasts approximately 30 minutes\, and caregivers and children are encouraged to linger in the library afterwards to further socialize and choose books to take home.
URL:https://visitpikeville.com/event/story-time-2-2-2-2-2-2-2-2-2-2-2-2-2-2-2-2-2-2-2-2-2-2-2-2-2-2-2-2-2-2-2-2-2-2-2-2-2-2-2-2-2-2-2-2-2-2-2-2-2-2-2-2-2-2-2-3-2-2-2-2-2-2-2-2-2-2-2-2-2-2-2-2-2-2-2-2-2-2-2-2-2-2-2-2-2-2/
LOCATION:Pike County Public Library\, 126 Lee Avenue\, Pikeville\, KY\, 41501\, United States
CATEGORIES:Pike County Public Library
ATTACH;FMTTYPE=image/png:https://visitpikeville.com/wp-content/uploads/2023/12/Story_TimeLEE.png
END:VEVENT
BEGIN:VEVENT
DTSTART;TZID=America/Kentucky/Louisville:20241219T150000
DTEND;TZID=America/Kentucky/Louisville:20241219T220000
DTSTAMP:20260424T182355
CREATED:20241118T141142Z
LAST-MODIFIED:20241118T141142Z
UID:59875-1734620400-1734645600@visitpikeville.com
SUMMARY:Winterfest
DESCRIPTION:Enjoy holiday magic with ice skating\, carriage rides\, and mini-train rides. Schools\, churches\, and other large groups can contact kevin@appwirelessarena.com for special skate times and group pricing. Don’t miss out on the fun! #visitpikeville
URL:https://visitpikeville.com/event/winterfest-5-2-2-2-2-2-2-2-2-2-2/
LOCATION:Pikeville City Park\, 101 Cumberland Ct\,\, Pikeville\, KY\, 41501
CATEGORIES:City of Pikeville,Pikeville Tourism
ATTACH;FMTTYPE=image/jpeg:https://visitpikeville.com/wp-content/uploads/2024/11/winterfest-1.jpg
END:VEVENT
BEGIN:VEVENT
DTSTART;TZID=America/Kentucky/Louisville:20241219T170000
DTEND;TZID=America/Kentucky/Louisville:20241219T184500
DTSTAMP:20260424T182355
CREATED:20241202T131834Z
LAST-MODIFIED:20241202T131834Z
UID:60352-1734627600-1734633900@visitpikeville.com
SUMMARY:Dungeons and Dragons
DESCRIPTION:Dungeons and Dragons Group meets every other Thursday at 5:00 at the Pike County Public Library (Lee Avenue). Beginners and experienced players alike are welcome.
URL:https://visitpikeville.com/event/dungeons-and-dragons-5-2-2-2-2-2-2-2-2-2-2-2-2-2-2-2-2-2-3/
LOCATION:Pike County Public Library\, 126 Lee Avenue\, Pikeville\, KY\, 41501\, United States
CATEGORIES:Pike County Public Library
ATTACH;FMTTYPE=image/png:https://visitpikeville.com/wp-content/uploads/2023/12/D_D_Group.png
END:VEVENT
BEGIN:VEVENT
DTSTART;TZID=America/Kentucky/Louisville:20241219T173000
DTEND;TZID=America/Kentucky/Louisville:20241219T193000
DTSTAMP:20260424T182355
CREATED:20241216T145906Z
LAST-MODIFIED:20241216T145906Z
UID:60921-1734629400-1734636600@visitpikeville.com
SUMMARY:Cat in a Sock
DESCRIPTION:16″ X 20″
URL:https://visitpikeville.com/event/cat-in-a-sock/
LOCATION:2 Broke Art Teachers\, 4505 Weddington Square\,\, Pikeville\, KY\, 41501\, United States
CATEGORIES:Other
ATTACH;FMTTYPE=image/jpeg:https://visitpikeville.com/wp-content/uploads/2024/12/cat.jpg
END:VEVENT
BEGIN:VEVENT
DTSTART;TZID=America/Kentucky/Louisville:20241219T180000
DTEND;TZID=America/Kentucky/Louisville:20241219T210000
DTSTAMP:20260424T182355
CREATED:20240826T133131Z
LAST-MODIFIED:20240826T133131Z
UID:55898-1734631200-1734642000@visitpikeville.com
SUMMARY:Winter Concert
DESCRIPTION:Concert Band\, Jazz Band\, and Choir performing our annual winter concert.
URL:https://visitpikeville.com/event/winter-concert-2/
LOCATION:Record Memorial & Booth Auditorium\, 147 Sycamore Street\,\, KY\, 41501\, United States
CATEGORIES:Other
ATTACH;FMTTYPE=image/jpeg:https://visitpikeville.com/wp-content/uploads/2024/08/winter.jpg
END:VEVENT
BEGIN:VEVENT
DTSTART;TZID=America/Kentucky/Louisville:20241219T193000
DTEND;TZID=America/Kentucky/Louisville:20241219T210000
DTSTAMP:20260424T182355
CREATED:20241216T141720Z
LAST-MODIFIED:20241216T141720Z
UID:60908-1734636600-1734642000@visitpikeville.com
SUMMARY:Holiday Cocktail Class
DESCRIPTION:Join us for The Troubadour’s first ever mixology class that includes making and tasting craft cocktails perfect for holiday entertaining! This relaxed course includes:\n3 cocktails food pairings intro to bar tools to create your home holiday bar tips and tricks on entertaining at home\nLite charcuterie bites included in class price. Additional drinks available for purchase.\nCourse led by Julia Petiprin from Cincinnati. As CEO and Director of Operations for House of Departure\, Homemakers Bar\, and Fifty Fifty Gin Club\, and co-founder of Sundry and Vice. Her concepts quickly earned national acclaim\, featured in The Wall Street Journal\, NYT\, USA Today amongst others. A two-time “Best Female Bartender” winner\, Julia’s expertise has been showcased in the Jack Daniels Black Book and at national industry events like Tales of the Cocktail.\nNo refunds
URL:https://visitpikeville.com/event/holiday-cocktail-class/
LOCATION:The Troubadour\, 502 Town Mountain Road\,\, Pikeville\, KY\, 41501\, United States
CATEGORIES:Other,Southeast Kentucky Chamber
ATTACH;FMTTYPE=image/jpeg:https://visitpikeville.com/wp-content/uploads/2024/12/cocktaik.jpg
END:VEVENT
END:VCALENDAR