BEGIN:VCALENDAR
VERSION:2.0
PRODID:-//Visit Pikeville - ECPv6.15.20//NONSGML v1.0//EN
CALSCALE:GREGORIAN
METHOD:PUBLISH
X-ORIGINAL-URL:https://visitpikeville.com
X-WR-CALDESC:Events for Visit Pikeville
REFRESH-INTERVAL;VALUE=DURATION:PT1H
X-Robots-Tag:noindex
X-PUBLISHED-TTL:PT1H
BEGIN:VTIMEZONE
TZID:America/Kentucky/Louisville
BEGIN:DAYLIGHT
TZOFFSETFROM:-0500
TZOFFSETTO:-0400
TZNAME:EDT
DTSTART:20230312T070000
END:DAYLIGHT
BEGIN:STANDARD
TZOFFSETFROM:-0400
TZOFFSETTO:-0500
TZNAME:EST
DTSTART:20231105T060000
END:STANDARD
BEGIN:DAYLIGHT
TZOFFSETFROM:-0500
TZOFFSETTO:-0400
TZNAME:EDT
DTSTART:20240310T070000
END:DAYLIGHT
BEGIN:STANDARD
TZOFFSETFROM:-0400
TZOFFSETTO:-0500
TZNAME:EST
DTSTART:20241103T060000
END:STANDARD
BEGIN:DAYLIGHT
TZOFFSETFROM:-0500
TZOFFSETTO:-0400
TZNAME:EDT
DTSTART:20250309T070000
END:DAYLIGHT
BEGIN:STANDARD
TZOFFSETFROM:-0400
TZOFFSETTO:-0500
TZNAME:EST
DTSTART:20251102T060000
END:STANDARD
END:VTIMEZONE
BEGIN:VEVENT
DTSTART;TZID=America/Kentucky/Louisville:20241210T110000
DTEND;TZID=America/Kentucky/Louisville:20241210T120000
DTSTAMP:20260424T214407
CREATED:20241209T155926Z
LAST-MODIFIED:20241209T155926Z
UID:60726-1733828400-1733832000@visitpikeville.com
SUMMARY:Holiday Decor Painting
DESCRIPTION:Space is limited. Must call to register
URL:https://visitpikeville.com/event/holiday-decor-painting/
LOCATION:Pike Co. Extension Community Arts\, 148 Trivette Dr\, Pikeville\, KY\, United States
CATEGORIES:Pike County Extension Community Arts
ATTACH;FMTTYPE=image/jpeg:https://visitpikeville.com/wp-content/uploads/2024/12/holiday.jpg
END:VEVENT
BEGIN:VEVENT
DTSTART;TZID=America/Kentucky/Louisville:20241210T120000
DTEND;TZID=America/Kentucky/Louisville:20241210T130000
DTSTAMP:20260424T214407
CREATED:20241104T133536Z
LAST-MODIFIED:20241104T133536Z
UID:59272-1733832000-1733835600@visitpikeville.com
SUMMARY:Lunch & Learn with Jim Musser
DESCRIPTION:Join us for a Lunch & Learn with special guest speaker\, Jim Musser\, Senior Vice President for Policy and Government Relations for the Kentucky Hospital Association. Musser leads the association’s government affairs efforts at both the state and federal levels of government. \nHe will be giving a presentation titled\, The Economic Impact of Hospitals.
URL:https://visitpikeville.com/event/lunch-learn-with-jim-musser/
LOCATION:Garfield House\, 178 College Street\, Pikeville\, KY\, 41501\, United States
CATEGORIES:Southeast Kentucky Chamber
ATTACH;FMTTYPE=image/png:https://visitpikeville.com/wp-content/uploads/2024/11/Dec2024-JimMusser.png
END:VEVENT
BEGIN:VEVENT
DTSTART;TZID=America/Kentucky/Louisville:20241210T170000
DTEND;TZID=America/Kentucky/Louisville:20241210T180000
DTSTAMP:20260424T214407
CREATED:20241118T150729Z
LAST-MODIFIED:20241118T150729Z
UID:59922-1733850000-1733853600@visitpikeville.com
SUMMARY:Kids Ornament Cupcakes
DESCRIPTION:Enjoy Christmas music while adding frosting and mini M&Ms to turn a cupcake into an ornament! For ages 12 and under. No registration required.\nThis program will be held on December 10th at 5:00 at the Pike County Public Library (Lee Avenue)\, Elkhorn City Public Library\, and Vesta Roberts Johnson Memorial Library. It will be held December 12th at 5:00 at the Belfry Public Library and Phelps Public Library.
URL:https://visitpikeville.com/event/kids-ornament-cupcakes/
LOCATION:Pike County Public Library\, 126 Lee Avenue\, Pikeville\, KY\, 41501\, United States
CATEGORIES:Pike County Public Library
ATTACH;FMTTYPE=image/jpeg:https://visitpikeville.com/wp-content/uploads/2024/11/ornaments.jpg
END:VEVENT
BEGIN:VEVENT
DTSTART;TZID=America/Kentucky/Louisville:20241210T173000
DTEND;TZID=America/Kentucky/Louisville:20241210T193000
DTSTAMP:20260424T214407
CREATED:20241209T155355Z
LAST-MODIFIED:20241209T155355Z
UID:60723-1733851800-1733859000@visitpikeville.com
SUMMARY:Grinch Hand
DESCRIPTION:Spend a relaxed evening painting the sneaky Grinch hand but he won’t keep your Christmas from coming. Bring your friends and family and spend the eve￼ning painting and making an unforgatable memory. Private message to reserve your spot . @topfans Painting With Joy Paint Group
URL:https://visitpikeville.com/event/grinch-hand/
LOCATION:2 Broke Art Teachers\, 4505 Weddington Square\,\, Pikeville\, KY\, 41501\, United States
CATEGORIES:Other
ATTACH;FMTTYPE=image/jpeg:https://visitpikeville.com/wp-content/uploads/2024/12/grinch.jpg
END:VEVENT
END:VCALENDAR