BEGIN:VCALENDAR
VERSION:2.0
PRODID:-//Visit Pikeville - ECPv6.15.20//NONSGML v1.0//EN
CALSCALE:GREGORIAN
METHOD:PUBLISH
X-ORIGINAL-URL:https://visitpikeville.com
X-WR-CALDESC:Events for Visit Pikeville
REFRESH-INTERVAL;VALUE=DURATION:PT1H
X-Robots-Tag:noindex
X-PUBLISHED-TTL:PT1H
BEGIN:VTIMEZONE
TZID:America/Kentucky/Louisville
BEGIN:DAYLIGHT
TZOFFSETFROM:-0500
TZOFFSETTO:-0400
TZNAME:EDT
DTSTART:20230312T070000
END:DAYLIGHT
BEGIN:STANDARD
TZOFFSETFROM:-0400
TZOFFSETTO:-0500
TZNAME:EST
DTSTART:20231105T060000
END:STANDARD
BEGIN:DAYLIGHT
TZOFFSETFROM:-0500
TZOFFSETTO:-0400
TZNAME:EDT
DTSTART:20240310T070000
END:DAYLIGHT
BEGIN:STANDARD
TZOFFSETFROM:-0400
TZOFFSETTO:-0500
TZNAME:EST
DTSTART:20241103T060000
END:STANDARD
BEGIN:DAYLIGHT
TZOFFSETFROM:-0500
TZOFFSETTO:-0400
TZNAME:EDT
DTSTART:20250309T070000
END:DAYLIGHT
BEGIN:STANDARD
TZOFFSETFROM:-0400
TZOFFSETTO:-0500
TZNAME:EST
DTSTART:20251102T060000
END:STANDARD
END:VTIMEZONE
BEGIN:VEVENT
DTSTART;TZID=America/Kentucky/Louisville:20241204T173000
DTEND;TZID=America/Kentucky/Louisville:20241204T183000
DTSTAMP:20260424T214306
CREATED:20240930T130135Z
LAST-MODIFIED:20240930T130135Z
UID:57743-1733333400-1733337000@visitpikeville.com
SUMMARY:Women's Basketball vs Kentucky Christian University
DESCRIPTION:Game Day!
URL:https://visitpikeville.com/event/womens-basketball-vs-kentucky-christian-university-2/
LOCATION:Appalachian Wireless Arena\, 126 Main Street\, Pikeville\, Ky\, 41501
CATEGORIES:UPike
ATTACH;FMTTYPE=image/png:https://visitpikeville.com/wp-content/uploads/2024/09/Screenshot-2024-09-30-at-9.01.14 AM.png
END:VEVENT
BEGIN:VEVENT
DTSTART;TZID=America/Kentucky/Louisville:20241204T173000
DTEND;TZID=America/Kentucky/Louisville:20241204T183000
DTSTAMP:20260424T214306
CREATED:20241014T131215Z
LAST-MODIFIED:20241014T131215Z
UID:58450-1733333400-1733337000@visitpikeville.com
SUMMARY:Teen Auditions (ages 13-18)
DESCRIPTION:Nov 6th-Dec 4th\, 2024 | $100 for semester\nMeets Wednesdays 5:30 – 6:30 pm\nClass Sharing: December 6th\, 2024\, @ 7:30 pm\nTaught by Claudia Dahlman and Brian Bush \n\n\n\n\n\n\nThis class aims to prepare students for auditions at all levels of theatre. The primary focus of the class is the exploration of an audition piece of the student’s choice: either a 60-90 second monologue or a 16-32 bar cut of a musical theatre song. \nThese pieces will be chosen by the students based on an audition brief given in the first week of classes. We will explore the storytelling of the pieces: what the character wants and how they aim to get it. These pieces will be shared with the community on a final “sharing” day. Additionally\, this class will provide students with information about resume format\, headshots\, and even self-promotion in order to give them the tools they need to succeed in any future auditions.
URL:https://visitpikeville.com/event/teen-auditions-ages-13-18-2-2-2-2/
LOCATION:Appalachian Center for the Arts\, 218 2nd St\,\, Pikeville\, Ky\, 41501
CATEGORIES:The Appalachian Center for the Arts
ATTACH;FMTTYPE=image/jpeg:https://visitpikeville.com/wp-content/uploads/2024/10/auditions.jpg
END:VEVENT
BEGIN:VEVENT
DTSTART;TZID=America/Kentucky/Louisville:20241204T180000
DTEND;TZID=America/Kentucky/Louisville:20241204T200000
DTSTAMP:20260424T214306
CREATED:20240520T123037Z
LAST-MODIFIED:20240520T123037Z
UID:51778-1733335200-1733342400@visitpikeville.com
SUMMARY:Blippi On Tour
DESCRIPTION:Hey parents!! Last chance to get your pre-sale tickets!! Use code: Truck at blippiontour.com \nhttps://www.ticketmaster.com/blipp…/event/160060ADD5E9467B\nC’mon and join Blippi On Tour to make music in your hometown in the brand new live Blippi: Join the Band Tour!  Blippi will be joined onstage by Meekah\, their singing and dancing buddies and LIVE musicians to explore what makes music\, including sounds\, rhythms and instruments\, through all your favorite Blippi hits. So grab your drumsticks\, tune up your guitar\, and move those feet with Blippi and get ready for a musical performance that’s fun for the whole family!\nDecember 4th\n6pm\nAppalachian Wireless Arena\nPikeville\, Ky\nTickets are $29.50\, $39.50\, $49.50\, and $59.50\nTickets available on May 17th at 10am. Visit the Community Trust Bank Box Office or Ticketmaster.com\n#BlippiOnTour #NewShow #Blippi #tour #entertainment #education #Rock #Music #blippijointhebandtour
URL:https://visitpikeville.com/event/blippi-on-tour/
LOCATION:Appalachian Wireless Arena\, 126 Main Street\, Pikeville\, Ky\, 41501
CATEGORIES:Appalachian Wireless Arena
ATTACH;FMTTYPE=image/jpeg:https://visitpikeville.com/wp-content/uploads/2024/05/blippi.jpeg
END:VEVENT
BEGIN:VEVENT
DTSTART;TZID=America/Kentucky/Louisville:20241204T180000
DTEND;TZID=America/Kentucky/Louisville:20241204T200000
DTSTAMP:20260424T214306
CREATED:20240520T124022Z
LAST-MODIFIED:20240520T124022Z
UID:51787-1733335200-1733342400@visitpikeville.com
SUMMARY:Blippi: Join The Band - Photo Experience
DESCRIPTION:Hey parents!! Last chance to get your pre-sale tickets!! Use code: Truck at blippiontour.com \nhttps://www.ticketmaster.com/blipp…/event/160060ADD5E9467B\nC’mon and join Blippi On Tour to make music in your hometown in the brand new live Blippi: Join the Band Tour!  Blippi will be joined onstage by Meekah\, their singing and dancing buddies and LIVE musicians to explore what makes music\, including sounds\, rhythms and instruments\, through all your favorite Blippi hits. So grab your drumsticks\, tune up your guitar\, and move those feet with Blippi and get ready for a musical performance that’s fun for the whole family!\nDecember 4th\n6pm\nAppalachian Wireless Arena\nPikeville\, Ky\nTickets are $29.50\, $39.50\, $49.50\, and $59.50\nTickets available on May 17th at 10am. Visit the Community Trust Bank Box Office or Ticketmaster.com\n#BlippiOnTour #NewShow #Blippi #tour #entertainment #education #Rock #Music #blippijointhebandtour
URL:https://visitpikeville.com/event/blippi-join-the-band-photo-experience/
LOCATION:Appalachian Wireless Arena\, 126 Main Street\, Pikeville\, Ky\, 41501
CATEGORIES:Appalachian Wireless Arena
ATTACH;FMTTYPE=image/jpeg:https://visitpikeville.com/wp-content/uploads/2024/05/blippi.jpeg
END:VEVENT
BEGIN:VEVENT
DTSTART;TZID=America/Kentucky/Louisville:20241204T184500
DTEND;TZID=America/Kentucky/Louisville:20241204T194500
DTSTAMP:20260424T214306
CREATED:20241014T132315Z
LAST-MODIFIED:20241014T132315Z
UID:58471-1733337900-1733341500@visitpikeville.com
SUMMARY:Musical Theatre Ensembles (ages 9-18)
DESCRIPTION:Nov 4th-Dec 4th\, 2024 | $100 for semester\nMeets Mondays and Wednesdays 6:45- 7:45pm\nClass Sharing: December 6th\, 2024\, @ 7:30 pm\nTaught by Daniela Velasquez and Brian Bush \n\n\n\n\nThis class is dedicated to developing key ensemble skills for musical theatre performance. Musical theatre\, by nature\, combines three key elements: acting\, singing\, and dance. \nThis class aims to explore all these aspects through a series of iconic musical theatre ensemble numbers. In these pieces\, students will learn music\, choreography\, and dig into the storytelling that the song requires. Ultimately\, these pieces will be shown to the community on a final “sharing” day. \nJoin us for a fantastic dive into the world of group work in musical theatre!
URL:https://visitpikeville.com/event/musical-theatre-ensembles-ages-9-18-2-2-2-2-2-2-2-2-2/
LOCATION:Appalachian Center for the Arts\, 218 2nd St\,\, Pikeville\, Ky\, 41501
CATEGORIES:The Appalachian Center for the Arts
ATTACH;FMTTYPE=image/jpeg:https://visitpikeville.com/wp-content/uploads/2024/10/musical.jpg
END:VEVENT
BEGIN:VEVENT
DTSTART;TZID=America/Kentucky/Louisville:20241204T193000
DTEND;TZID=America/Kentucky/Louisville:20241204T203000
DTSTAMP:20260424T214306
CREATED:20240930T130309Z
LAST-MODIFIED:20240930T130309Z
UID:57746-1733340600-1733344200@visitpikeville.com
SUMMARY:Men's Basketball vs Kentucky Christian University
DESCRIPTION:Game Day!!
URL:https://visitpikeville.com/event/mens-basketball-vs-kentucky-christian-university-3/
LOCATION:Appalachian Wireless Arena\, 126 Main Street\, Pikeville\, Ky\, 41501
CATEGORIES:UPike
ATTACH;FMTTYPE=image/png:https://visitpikeville.com/wp-content/uploads/2024/09/Screenshot-2024-09-30-at-9.02.14 AM.png
END:VEVENT
BEGIN:VEVENT
DTSTART;TZID=America/Kentucky/Louisville:20241204T200000
DTEND;TZID=America/Kentucky/Louisville:20241204T210000
DTSTAMP:20260424T214306
CREATED:20241014T132947Z
LAST-MODIFIED:20241014T132947Z
UID:58492-1733342400-1733346000@visitpikeville.com
SUMMARY:Teen Stage Combat (ages 16-18)
DESCRIPTION:Nov 4th-Dec 4th\, 2024 | $100 for semester\nMeets Mondays and Wednesdays 8:00 – 9:00 pm\nClass Sharing: December 6th\, 2024\, @ 7:30 pm\nTaught by Crockett J. Ward with Teaching Assistant Claudia Dahlman \n\n\n\n\nReady to unleash your full potential without needing a trip to the emergency room? Join our 5-week stage combat class for teens and master the art of epic on-stage battles! For ages 16-18\, this class will teach you how to pull off jaw-dropping moves with all the flair of a Hollywood stunt double\, minus the risk of actual injury. \nYou’ll learn how to throw a punch\, take a dive\, and engage in choreographed chaos—all while maintaining that dramatic flair that’ll make your friends think you’re a total action star. Plus\, we’ll throw in a few tricks to make sure you’re as safe as you are spectacular. \nSign up and get ready to throw down—theatrically speaking\, of course!
URL:https://visitpikeville.com/event/teen-stage-combat-ages-16-18-2-2-2-2-2-2-2-2-2/
LOCATION:Appalachian Center for the Arts\, 218 2nd St\,\, Pikeville\, Ky\, 41501
CATEGORIES:The Appalachian Center for the Arts
ATTACH;FMTTYPE=image/jpeg:https://visitpikeville.com/wp-content/uploads/2024/10/combat.jpg
END:VEVENT
END:VCALENDAR