BEGIN:VCALENDAR
VERSION:2.0
PRODID:-//Visit Pikeville - ECPv6.15.20//NONSGML v1.0//EN
CALSCALE:GREGORIAN
METHOD:PUBLISH
X-ORIGINAL-URL:https://visitpikeville.com
X-WR-CALDESC:Events for Visit Pikeville
REFRESH-INTERVAL;VALUE=DURATION:PT1H
X-Robots-Tag:noindex
X-PUBLISHED-TTL:PT1H
BEGIN:VTIMEZONE
TZID:America/Kentucky/Louisville
BEGIN:DAYLIGHT
TZOFFSETFROM:-0500
TZOFFSETTO:-0400
TZNAME:EDT
DTSTART:20230312T070000
END:DAYLIGHT
BEGIN:STANDARD
TZOFFSETFROM:-0400
TZOFFSETTO:-0500
TZNAME:EST
DTSTART:20231105T060000
END:STANDARD
BEGIN:DAYLIGHT
TZOFFSETFROM:-0500
TZOFFSETTO:-0400
TZNAME:EDT
DTSTART:20240310T070000
END:DAYLIGHT
BEGIN:STANDARD
TZOFFSETFROM:-0400
TZOFFSETTO:-0500
TZNAME:EST
DTSTART:20241103T060000
END:STANDARD
BEGIN:DAYLIGHT
TZOFFSETFROM:-0500
TZOFFSETTO:-0400
TZNAME:EDT
DTSTART:20250309T070000
END:DAYLIGHT
BEGIN:STANDARD
TZOFFSETFROM:-0400
TZOFFSETTO:-0500
TZNAME:EST
DTSTART:20251102T060000
END:STANDARD
END:VTIMEZONE
BEGIN:VEVENT
DTSTART;VALUE=DATE:20241203
DTEND;VALUE=DATE:20241204
DTSTAMP:20260424T214406
CREATED:20241202T124738Z
LAST-MODIFIED:20241202T124738Z
UID:60321-1733184000-1733270399@visitpikeville.com
SUMMARY:Giving Tuesday
DESCRIPTION:Giving Tuesday is Dec. 3. Donations given on this day will help to provide vital resources for our students. Consider donating and encouraging others to invest in the lives of our students.\n\n\nLearn more at upike.edu/givingtuesday
URL:https://visitpikeville.com/event/giving-tuesday/
LOCATION:University Of Pikeville\, 147 Sycamore St\,\, Pikeville\, KY\, 41501\, United States
CATEGORIES:UPike
ATTACH;FMTTYPE=image/jpeg:https://visitpikeville.com/wp-content/uploads/2024/12/give.jpg
END:VEVENT
BEGIN:VEVENT
DTSTART;TZID=America/Kentucky/Louisville:20241203T170000
DTEND;TZID=America/Kentucky/Louisville:20241203T180000
DTSTAMP:20260424T214406
CREATED:20241014T130142Z
LAST-MODIFIED:20241014T130142Z
UID:58428-1733245200-1733248800@visitpikeville.com
SUMMARY:Teen Improv (ages 13-18)
DESCRIPTION:Nov 5th-Dec 3rd\, 2024 | $100 for semester\nMeets Tuesdays and Thursdays 5:00 – 6:00 pm\nPerformance: December 7th\, 2024\, @ 7:30 pm\nTaught by John Code and Brian Bush \n\n\n\n\nIn this class\, we will work on building the foundations of improvisational acting and comedy as well as refining and sharpening the skills of experienced students and creating a cohesive team of players. \nStudents of all levels are encouraged to join\, whether it is simply to try something new and fun or to improve on past improv experience. We will be working on a wide arrange of improv games that will eventually be incorporated into a public class sharing at the end of the class on December 6th\, which family and friends of all participants are highly encouraged to attend!
URL:https://visitpikeville.com/event/teen-improv-ages-13-18-4-2-2-2-2-2-2-2-2/
LOCATION:Appalachian Center for the Arts\, 218 2nd St\,\, Pikeville\, Ky\, 41501
CATEGORIES:The Appalachian Center for the Arts
ATTACH;FMTTYPE=image/jpeg:https://visitpikeville.com/wp-content/uploads/2024/10/teen.jpg
END:VEVENT
BEGIN:VEVENT
DTSTART;TZID=America/Kentucky/Louisville:20241203T170000
DTEND;TZID=America/Kentucky/Louisville:20241203T180000
DTSTAMP:20260424T214406
CREATED:20241202T130358Z
LAST-MODIFIED:20241202T130358Z
UID:60324-1733245200-1733248800@visitpikeville.com
SUMMARY:Book Talks
DESCRIPTION:Every Other Tuesday at 5pm-6pm
URL:https://visitpikeville.com/event/book-talks-book-club-9-2-2-2-2-2-2-2-2-2-2-2-2-2-2-2-2-2-2-2-2-2-2-2-2-2-2-2-2/
LOCATION:Pike County Public Library\, 126 Lee Avenue\, Pikeville\, KY\, 41501\, United States
CATEGORIES:Pike County Public Library
ATTACH;FMTTYPE=image/jpeg:https://visitpikeville.com/wp-content/uploads/2023/06/book-talks.jpeg
END:VEVENT
BEGIN:VEVENT
DTSTART;TZID=America/Kentucky/Louisville:20241203T173000
DTEND;TZID=America/Kentucky/Louisville:20241203T183000
DTSTAMP:20260424T214406
CREATED:20241118T145516Z
LAST-MODIFIED:20241118T145516Z
UID:59908-1733247000-1733250600@visitpikeville.com
SUMMARY:The Grinch Visits The Library
DESCRIPTION:The Grinch is coming to the library! Color a Grinch slap bracelet and take photos with the Grinch. No registration required.\nThe Grinch will be at the Pike County Public Library (Lee Avenue) on Tuesday\, December 3rd at 5:30\nThe Grinch will be at the Belfry Public Library on Thursday\, December 5th at 5:30.\nThe Grinch will be at the Elkhorn City Public Library on Saturday\, December 7th at 2:00.
URL:https://visitpikeville.com/event/the-grinch-visits-the-library-2/
LOCATION:Pike County Public Library\, 126 Lee Avenue\, Pikeville\, KY\, 41501\, United States
CATEGORIES:Pike County Public Library
ATTACH;FMTTYPE=image/jpeg:https://visitpikeville.com/wp-content/uploads/2024/11/grinch.jpg
END:VEVENT
BEGIN:VEVENT
DTSTART;TZID=America/Kentucky/Louisville:20241203T173000
DTEND;TZID=America/Kentucky/Louisville:20241203T203000
DTSTAMP:20260424T214406
CREATED:20241202T141132Z
LAST-MODIFIED:20241202T141132Z
UID:60396-1733247000-1733257800@visitpikeville.com
SUMMARY:Charlie Brown Tree
DESCRIPTION:16″ x 20″ \n$30
URL:https://visitpikeville.com/event/charlie-brown-tree/
LOCATION:2 Broke Art Teachers\, 4505 Weddington Square\,\, Pikeville\, KY\, 41501\, United States
CATEGORIES:Other
ATTACH;FMTTYPE=image/jpeg:https://visitpikeville.com/wp-content/uploads/2024/12/charlie.jpg
END:VEVENT
BEGIN:VEVENT
DTSTART;TZID=America/Kentucky/Louisville:20241203T180000
DTEND;TZID=America/Kentucky/Louisville:20241203T190000
DTSTAMP:20260424T214406
CREATED:20241014T130728Z
LAST-MODIFIED:20241014T130728Z
UID:58439-1733248800-1733252400@visitpikeville.com
SUMMARY:Teen Acting (ages 12-18)
DESCRIPTION:Nov 5th-Dec 3rd\, 2024 | $100 for semester\nMeets Tuesdays 6:00 – 7:00 pm\nClass Sharing: December 6th\, 2024\, @ 7:30 pm\nTaught by Daniela Velasquez and Claudia Dahlman \n\n\n\n\nWhether you hope to pursue a career on stage or just want to have fun working with other teens who love theatre\, this class is for you. \nOn stage\, we will learn essential acting techniques and apply them towards monologues and scenes. We will learn how to analyze a script\, and develop an honest\, multi-dimensional character based on the text. \nWhether you are an experienced actor\, or just looking to grow out of your comfort zone\, you will fit in and build your confidence in performing.
URL:https://visitpikeville.com/event/teen-acting-ages-12-18-2-2-2-2/
LOCATION:Appalachian Center for the Arts\, 218 2nd St\,\, Pikeville\, Ky\, 41501
CATEGORIES:The Appalachian Center for the Arts
ATTACH;FMTTYPE=image/jpeg:https://visitpikeville.com/wp-content/uploads/2024/10/teen-acting.jpg
END:VEVENT
BEGIN:VEVENT
DTSTART;TZID=America/Kentucky/Louisville:20241203T200000
DTEND;TZID=America/Kentucky/Louisville:20241203T220000
DTSTAMP:20260424T214406
CREATED:20241014T134034Z
LAST-MODIFIED:20241014T134034Z
UID:58523-1733256000-1733263200@visitpikeville.com
SUMMARY:Adult Stage Combat (ages 18+)
DESCRIPTION:Nov 5th-Dec 5th\, 2024 | $100 for semester\nMeets Tuesdays and Thursdays 8:00 – 10:00 pm\nClass Sharing: December 6th\, 2024\, @ 7:30 pm\nTaught by Crockett J. Ward with Teaching Assistant Claudia Dahlman \n\n\n\n\nEver wanted to channel your inner action hero without risking your real-life limbs? Welcome to “Fight Club for Grown-Ups\,” a 5-week stage combat class designed for the over-18 crowd who want to master the art of theatrical fisticuffs and dramatic duels—no actual bloodshed required! \nIn this class\, you’ll learn the secrets of stage combat. We’ll cover everything from basic moves to advanced maneuvers\, all while ensuring you leave with a newfound appreciation for the Art of looking like you’re in a high stakes fight without actually breaking anything. \nJoin us for a session of high-energy fun and discover why stage combat is the most entertaining way to throw a punch—figuratively speaking\, of course.
URL:https://visitpikeville.com/event/adult-stage-combat-ages-18-2-2-2-2-2-2-2-2/
LOCATION:Appalachian Center for the Arts\, 218 2nd St\,\, Pikeville\, Ky\, 41501
CATEGORIES:The Appalachian Center for the Arts
ATTACH;FMTTYPE=image/jpeg:https://visitpikeville.com/wp-content/uploads/2024/10/adult-combat.jpg
END:VEVENT
END:VCALENDAR