BEGIN:VCALENDAR
VERSION:2.0
PRODID:-//Visit Pikeville - ECPv6.15.20//NONSGML v1.0//EN
CALSCALE:GREGORIAN
METHOD:PUBLISH
X-WR-CALNAME:Visit Pikeville
X-ORIGINAL-URL:https://visitpikeville.com
X-WR-CALDESC:Events for Visit Pikeville
REFRESH-INTERVAL;VALUE=DURATION:PT1H
X-Robots-Tag:noindex
X-PUBLISHED-TTL:PT1H
BEGIN:VTIMEZONE
TZID:America/Kentucky/Louisville
BEGIN:DAYLIGHT
TZOFFSETFROM:-0500
TZOFFSETTO:-0400
TZNAME:EDT
DTSTART:20230312T070000
END:DAYLIGHT
BEGIN:STANDARD
TZOFFSETFROM:-0400
TZOFFSETTO:-0500
TZNAME:EST
DTSTART:20231105T060000
END:STANDARD
BEGIN:DAYLIGHT
TZOFFSETFROM:-0500
TZOFFSETTO:-0400
TZNAME:EDT
DTSTART:20240310T070000
END:DAYLIGHT
BEGIN:STANDARD
TZOFFSETFROM:-0400
TZOFFSETTO:-0500
TZNAME:EST
DTSTART:20241103T060000
END:STANDARD
BEGIN:DAYLIGHT
TZOFFSETFROM:-0500
TZOFFSETTO:-0400
TZNAME:EDT
DTSTART:20250309T070000
END:DAYLIGHT
BEGIN:STANDARD
TZOFFSETFROM:-0400
TZOFFSETTO:-0500
TZNAME:EST
DTSTART:20251102T060000
END:STANDARD
END:VTIMEZONE
BEGIN:VEVENT
DTSTART;TZID=America/Kentucky/Louisville:20241128T100000
DTEND;TZID=America/Kentucky/Louisville:20241128T120000
DTSTAMP:20260424T200440
CREATED:20241104T151240Z
LAST-MODIFIED:20241104T151240Z
UID:59313-1732788000-1732795200@visitpikeville.com
SUMMARY:FREE Thanksgiving Meal
DESCRIPTION:Thanksgiving Day 10am-12pm @Appalachian Wireless Arena
URL:https://visitpikeville.com/event/free-thanksgiving-meal/
LOCATION:Appalachian Wireless Arena\, 126 Main Street\, Pikeville\, Ky\, 41501
CATEGORIES:Appalachian Wireless Arena
END:VEVENT
BEGIN:VEVENT
DTSTART;TZID=America/Kentucky/Louisville:20241128T170000
DTEND;TZID=America/Kentucky/Louisville:20241128T180000
DTSTAMP:20260424T200440
CREATED:20241014T130053Z
LAST-MODIFIED:20241014T130053Z
UID:58426-1732813200-1732816800@visitpikeville.com
SUMMARY:Teen Improv (ages 13-18)
DESCRIPTION:Nov 5th-Dec 3rd\, 2024 | $100 for semester\nMeets Tuesdays and Thursdays 5:00 – 6:00 pm\nPerformance: December 7th\, 2024\, @ 7:30 pm\nTaught by John Code and Brian Bush \n\n\n\n\nIn this class\, we will work on building the foundations of improvisational acting and comedy as well as refining and sharpening the skills of experienced students and creating a cohesive team of players. \nStudents of all levels are encouraged to join\, whether it is simply to try something new and fun or to improve on past improv experience. We will be working on a wide arrange of improv games that will eventually be incorporated into a public class sharing at the end of the class on December 6th\, which family and friends of all participants are highly encouraged to attend!
URL:https://visitpikeville.com/event/teen-improv-ages-13-18-4-2-2-2-2-2-2-2/
LOCATION:Appalachian Center for the Arts\, 218 2nd St\,\, Pikeville\, Ky\, 41501
CATEGORIES:The Appalachian Center for the Arts
ATTACH;FMTTYPE=image/jpeg:https://visitpikeville.com/wp-content/uploads/2024/10/teen.jpg
END:VEVENT
BEGIN:VEVENT
DTSTART;TZID=America/Kentucky/Louisville:20241128T183000
DTEND;TZID=America/Kentucky/Louisville:20241128T194500
DTSTAMP:20260424T200440
CREATED:20241014T133313Z
LAST-MODIFIED:20241014T133313Z
UID:58502-1732818600-1732823100@visitpikeville.com
SUMMARY:Adult Improv (ages 18+)
DESCRIPTION:Nov 7th-Dec 5th\, 2024 | $100 for semester\nMeets Thursdays 6:30 – 7:45 pm\nClass Sharing: December 7th\, 2024\, @ 7:30 pm\nTaught by Crockett J. Ward with Teaching Assistant Brian Bush \n\n\n\n\nEver wanted to be the star of your own comedy show but can’t remember the last time you were on stage without tripping over your own feet? Our 5-week adult improv class is here to turn those awkward moments into epic punchlines. \nIn this no-pressure\, all-laughter workshop\, you’ll dive into the world of improvisational comedy with the Improv at the App Comedy Troupe\, where quick thinking and creativity are your new best friends. Learn how to think on your feet\, create new worlds\, and embrace the beauty of unpredictability. \nWhether you’re aiming to conquer your stage fright or just want to grow your skills\, we’ll help you transform everyday mishaps into comedic gold. Join us for a fun\, supportive environment where the only thing you’ll need to prepare is your sense of humor!
URL:https://visitpikeville.com/event/adult-improv-ages-18-4-2-2-2/
LOCATION:Appalachian Center for the Arts\, 218 2nd St\,\, Pikeville\, Ky\, 41501
CATEGORIES:The Appalachian Center for the Arts
ATTACH;FMTTYPE=image/jpeg:https://visitpikeville.com/wp-content/uploads/2024/10/adult-improv.jpg
END:VEVENT
BEGIN:VEVENT
DTSTART;TZID=America/Kentucky/Louisville:20241128T200000
DTEND;TZID=America/Kentucky/Louisville:20241128T220000
DTSTAMP:20260424T200440
CREATED:20241014T133955Z
LAST-MODIFIED:20241014T133955Z
UID:58521-1732824000-1732831200@visitpikeville.com
SUMMARY:Adult Stage Combat (ages 18+)
DESCRIPTION:Nov 5th-Dec 5th\, 2024 | $100 for semester\nMeets Tuesdays and Thursdays 8:00 – 10:00 pm\nClass Sharing: December 6th\, 2024\, @ 7:30 pm\nTaught by Crockett J. Ward with Teaching Assistant Claudia Dahlman \n\n\n\n\nEver wanted to channel your inner action hero without risking your real-life limbs? Welcome to “Fight Club for Grown-Ups\,” a 5-week stage combat class designed for the over-18 crowd who want to master the art of theatrical fisticuffs and dramatic duels—no actual bloodshed required! \nIn this class\, you’ll learn the secrets of stage combat. We’ll cover everything from basic moves to advanced maneuvers\, all while ensuring you leave with a newfound appreciation for the Art of looking like you’re in a high stakes fight without actually breaking anything. \nJoin us for a session of high-energy fun and discover why stage combat is the most entertaining way to throw a punch—figuratively speaking\, of course.
URL:https://visitpikeville.com/event/adult-stage-combat-ages-18-2-2-2-2-2-2-2/
LOCATION:Appalachian Center for the Arts\, 218 2nd St\,\, Pikeville\, Ky\, 41501
CATEGORIES:The Appalachian Center for the Arts
ATTACH;FMTTYPE=image/jpeg:https://visitpikeville.com/wp-content/uploads/2024/10/adult-combat.jpg
END:VEVENT
END:VCALENDAR