BEGIN:VCALENDAR
VERSION:2.0
PRODID:-//Visit Pikeville - ECPv6.15.20//NONSGML v1.0//EN
CALSCALE:GREGORIAN
METHOD:PUBLISH
X-WR-CALNAME:Visit Pikeville
X-ORIGINAL-URL:https://visitpikeville.com
X-WR-CALDESC:Events for Visit Pikeville
REFRESH-INTERVAL;VALUE=DURATION:PT1H
X-Robots-Tag:noindex
X-PUBLISHED-TTL:PT1H
BEGIN:VTIMEZONE
TZID:America/Kentucky/Louisville
BEGIN:DAYLIGHT
TZOFFSETFROM:-0500
TZOFFSETTO:-0400
TZNAME:EDT
DTSTART:20230312T070000
END:DAYLIGHT
BEGIN:STANDARD
TZOFFSETFROM:-0400
TZOFFSETTO:-0500
TZNAME:EST
DTSTART:20231105T060000
END:STANDARD
BEGIN:DAYLIGHT
TZOFFSETFROM:-0500
TZOFFSETTO:-0400
TZNAME:EDT
DTSTART:20240310T070000
END:DAYLIGHT
BEGIN:STANDARD
TZOFFSETFROM:-0400
TZOFFSETTO:-0500
TZNAME:EST
DTSTART:20241103T060000
END:STANDARD
BEGIN:DAYLIGHT
TZOFFSETFROM:-0500
TZOFFSETTO:-0400
TZNAME:EDT
DTSTART:20250309T070000
END:DAYLIGHT
BEGIN:STANDARD
TZOFFSETFROM:-0400
TZOFFSETTO:-0500
TZNAME:EST
DTSTART:20251102T060000
END:STANDARD
END:VTIMEZONE
BEGIN:VEVENT
DTSTART;TZID=America/Kentucky/Louisville:20241122T173000
DTEND;TZID=America/Kentucky/Louisville:20241122T203000
DTSTAMP:20260424T200533
CREATED:20241118T145103Z
LAST-MODIFIED:20241118T145103Z
UID:59905-1732296600-1732307400@visitpikeville.com
SUMMARY:Gingerbread Man and House
DESCRIPTION:16″ x 20″
URL:https://visitpikeville.com/event/gingerbread-man-and-house/
LOCATION:2 Broke Art Teachers\, 4505 Weddington Square\,\, Pikeville\, KY\, 41501\, United States
CATEGORIES:Other
ATTACH;FMTTYPE=image/jpeg:https://visitpikeville.com/wp-content/uploads/2024/11/gingerbread.jpg
END:VEVENT
BEGIN:VEVENT
DTSTART;TZID=America/Kentucky/Louisville:20241122T190000
DTEND;TZID=America/Kentucky/Louisville:20241122T210000
DTSTAMP:20260424T200533
CREATED:20240412T123856Z
LAST-MODIFIED:20240412T123856Z
UID:49618-1732302000-1732309200@visitpikeville.com
SUMMARY:Jack Willhite
DESCRIPTION:Rock & Roll Comedy Show
URL:https://visitpikeville.com/event/jack-willhite/
LOCATION:Appalachian Center for the Arts\, 218 2nd St\,\, Pikeville\, Ky\, 41501
CATEGORIES:The Appalachian Center for the Arts
ATTACH;FMTTYPE=image/webp:https://visitpikeville.com/wp-content/uploads/2024/04/jack.webp
END:VEVENT
BEGIN:VEVENT
DTSTART;TZID=America/Kentucky/Louisville:20241122T200000
DTEND;TZID=America/Kentucky/Louisville:20241122T220000
DTSTAMP:20260424T200533
CREATED:20241028T114638Z
LAST-MODIFIED:20241028T114638Z
UID:59037-1732305600-1732312800@visitpikeville.com
SUMMARY:Kris Bentley w/The Protectors
DESCRIPTION:@ Pearse’s Place
URL:https://visitpikeville.com/event/kris-bentley-w-the-protectors/
LOCATION:Pearse’s Place\, 224 2nd St\,\, Pikeville\, KY\, 41501\, United States
CATEGORIES:Other
ATTACH;FMTTYPE=image/jpeg:https://visitpikeville.com/wp-content/uploads/2024/10/kris.jpg
END:VEVENT
END:VCALENDAR