BEGIN:VCALENDAR
VERSION:2.0
PRODID:-//Visit Pikeville - ECPv6.15.20//NONSGML v1.0//EN
CALSCALE:GREGORIAN
METHOD:PUBLISH
X-WR-CALNAME:Visit Pikeville
X-ORIGINAL-URL:https://visitpikeville.com
X-WR-CALDESC:Events for Visit Pikeville
REFRESH-INTERVAL;VALUE=DURATION:PT1H
X-Robots-Tag:noindex
X-PUBLISHED-TTL:PT1H
BEGIN:VTIMEZONE
TZID:America/Kentucky/Louisville
BEGIN:DAYLIGHT
TZOFFSETFROM:-0500
TZOFFSETTO:-0400
TZNAME:EDT
DTSTART:20230312T070000
END:DAYLIGHT
BEGIN:STANDARD
TZOFFSETFROM:-0400
TZOFFSETTO:-0500
TZNAME:EST
DTSTART:20231105T060000
END:STANDARD
BEGIN:DAYLIGHT
TZOFFSETFROM:-0500
TZOFFSETTO:-0400
TZNAME:EDT
DTSTART:20240310T070000
END:DAYLIGHT
BEGIN:STANDARD
TZOFFSETFROM:-0400
TZOFFSETTO:-0500
TZNAME:EST
DTSTART:20241103T060000
END:STANDARD
BEGIN:DAYLIGHT
TZOFFSETFROM:-0500
TZOFFSETTO:-0400
TZNAME:EDT
DTSTART:20250309T070000
END:DAYLIGHT
BEGIN:STANDARD
TZOFFSETFROM:-0400
TZOFFSETTO:-0500
TZNAME:EST
DTSTART:20251102T060000
END:STANDARD
END:VTIMEZONE
BEGIN:VEVENT
DTSTART;TZID=America/Kentucky/Louisville:20241119T080000
DTEND;TZID=America/Kentucky/Louisville:20241121T163000
DTSTAMP:20260424T200442
CREATED:20241111T210210Z
LAST-MODIFIED:20241111T210210Z
UID:59637-1732003200-1732206600@visitpikeville.com
SUMMARY:Child Passenger Safety Seat Class
DESCRIPTION:Space is limited \nCost is $95 for a renewable 2 year certification \nPolice and Fire Education credits available \nDress Comfortably
URL:https://visitpikeville.com/event/child-passenger-safety-seat-class/
LOCATION:Pikeville Fire Station No. 1\, 104 Chloe Rd\,\, Pikeville\, KY\, 41501\, United States
CATEGORIES:Pike County Health Department
ATTACH;FMTTYPE=image/jpeg:https://visitpikeville.com/wp-content/uploads/2024/11/child-safety.jpg
END:VEVENT
BEGIN:VEVENT
DTSTART;TZID=America/Kentucky/Louisville:20241120T173000
DTEND;TZID=America/Kentucky/Louisville:20241120T183000
DTSTAMP:20260424T200442
CREATED:20240930T125654Z
LAST-MODIFIED:20240930T125654Z
UID:57737-1732123800-1732127400@visitpikeville.com
SUMMARY:Women's Basketball vs Reinhardt University
DESCRIPTION:Game Day!
URL:https://visitpikeville.com/event/womens-basketball-vs-reinhardt-university/
LOCATION:Appalachian Wireless Arena\, 126 Main Street\, Pikeville\, Ky\, 41501
CATEGORIES:UPike
ATTACH;FMTTYPE=image/png:https://visitpikeville.com/wp-content/uploads/2024/09/Screenshot-2024-09-30-at-8.56.29 AM.png
END:VEVENT
BEGIN:VEVENT
DTSTART;TZID=America/Kentucky/Louisville:20241120T173000
DTEND;TZID=America/Kentucky/Louisville:20241120T183000
DTSTAMP:20260424T200442
CREATED:20241014T131101Z
LAST-MODIFIED:20241014T131101Z
UID:58446-1732123800-1732127400@visitpikeville.com
SUMMARY:Teen Auditions (ages 13-18)
DESCRIPTION:Nov 6th-Dec 4th\, 2024 | $100 for semester\nMeets Wednesdays 5:30 – 6:30 pm\nClass Sharing: December 6th\, 2024\, @ 7:30 pm\nTaught by Claudia Dahlman and Brian Bush \n\n\n\n\n\n\nThis class aims to prepare students for auditions at all levels of theatre. The primary focus of the class is the exploration of an audition piece of the student’s choice: either a 60-90 second monologue or a 16-32 bar cut of a musical theatre song. \nThese pieces will be chosen by the students based on an audition brief given in the first week of classes. We will explore the storytelling of the pieces: what the character wants and how they aim to get it. These pieces will be shared with the community on a final “sharing” day. Additionally\, this class will provide students with information about resume format\, headshots\, and even self-promotion in order to give them the tools they need to succeed in any future auditions.
URL:https://visitpikeville.com/event/teen-auditions-ages-13-18-2-2/
LOCATION:Appalachian Center for the Arts\, 218 2nd St\,\, Pikeville\, Ky\, 41501
CATEGORIES:The Appalachian Center for the Arts
ATTACH;FMTTYPE=image/jpeg:https://visitpikeville.com/wp-content/uploads/2024/10/auditions.jpg
END:VEVENT
BEGIN:VEVENT
DTSTART;TZID=America/Kentucky/Louisville:20241120T173000
DTEND;TZID=America/Kentucky/Louisville:20241120T203000
DTSTAMP:20260424T200442
CREATED:20241118T144413Z
LAST-MODIFIED:20241118T144413Z
UID:59899-1732123800-1732134600@visitpikeville.com
SUMMARY:Snowflake
DESCRIPTION:16″ X 20″
URL:https://visitpikeville.com/event/snowflake/
LOCATION:2 Broke Art Teachers\, 4505 Weddington Square\,\, Pikeville\, KY\, 41501\, United States
CATEGORIES:Other
ATTACH;FMTTYPE=image/jpeg:https://visitpikeville.com/wp-content/uploads/2024/11/SNOWFLAKE.jpg
END:VEVENT
BEGIN:VEVENT
DTSTART;TZID=America/Kentucky/Louisville:20241120T184500
DTEND;TZID=America/Kentucky/Louisville:20241120T194500
DTSTAMP:20260424T200442
CREATED:20241014T132106Z
LAST-MODIFIED:20241014T132106Z
UID:58463-1732128300-1732131900@visitpikeville.com
SUMMARY:Musical Theatre Ensembles (ages 9-18)
DESCRIPTION:Nov 4th-Dec 4th\, 2024 | $100 for semester\nMeets Mondays and Wednesdays 6:45- 7:45pm\nClass Sharing: December 6th\, 2024\, @ 7:30 pm\nTaught by Daniela Velasquez and Brian Bush \n\n\n\n\nThis class is dedicated to developing key ensemble skills for musical theatre performance. Musical theatre\, by nature\, combines three key elements: acting\, singing\, and dance. \nThis class aims to explore all these aspects through a series of iconic musical theatre ensemble numbers. In these pieces\, students will learn music\, choreography\, and dig into the storytelling that the song requires. Ultimately\, these pieces will be shown to the community on a final “sharing” day. \nJoin us for a fantastic dive into the world of group work in musical theatre!
URL:https://visitpikeville.com/event/musical-theatre-ensembles-ages-9-18-2-2-2-2-2/
LOCATION:Appalachian Center for the Arts\, 218 2nd St\,\, Pikeville\, Ky\, 41501
CATEGORIES:The Appalachian Center for the Arts
ATTACH;FMTTYPE=image/jpeg:https://visitpikeville.com/wp-content/uploads/2024/10/musical.jpg
END:VEVENT
BEGIN:VEVENT
DTSTART;TZID=America/Kentucky/Louisville:20241120T193000
DTEND;TZID=America/Kentucky/Louisville:20241120T203000
DTSTAMP:20260424T200442
CREATED:20240930T125829Z
LAST-MODIFIED:20240930T125829Z
UID:57740-1732131000-1732134600@visitpikeville.com
SUMMARY:Men's Basketball vs Reinhardt University
DESCRIPTION:Game Day!!
URL:https://visitpikeville.com/event/mens-basketball-vs-reinhardt-university-3/
LOCATION:Appalachian Wireless Arena\, 126 Main Street\, Pikeville\, Ky\, 41501
CATEGORIES:UPike
ATTACH;FMTTYPE=image/png:https://visitpikeville.com/wp-content/uploads/2024/09/Screenshot-2024-09-30-at-8.58.09 AM.png
END:VEVENT
BEGIN:VEVENT
DTSTART;TZID=America/Kentucky/Louisville:20241120T200000
DTEND;TZID=America/Kentucky/Louisville:20241120T210000
DTSTAMP:20260424T200442
CREATED:20241014T132754Z
LAST-MODIFIED:20241014T132754Z
UID:58484-1732132800-1732136400@visitpikeville.com
SUMMARY:Teen Stage Combat (ages 16-18)
DESCRIPTION:Nov 4th-Dec 4th\, 2024 | $100 for semester\nMeets Mondays and Wednesdays 8:00 – 9:00 pm\nClass Sharing: December 6th\, 2024\, @ 7:30 pm\nTaught by Crockett J. Ward with Teaching Assistant Claudia Dahlman \n\n\n\n\nReady to unleash your full potential without needing a trip to the emergency room? Join our 5-week stage combat class for teens and master the art of epic on-stage battles! For ages 16-18\, this class will teach you how to pull off jaw-dropping moves with all the flair of a Hollywood stunt double\, minus the risk of actual injury. \nYou’ll learn how to throw a punch\, take a dive\, and engage in choreographed chaos—all while maintaining that dramatic flair that’ll make your friends think you’re a total action star. Plus\, we’ll throw in a few tricks to make sure you’re as safe as you are spectacular. \nSign up and get ready to throw down—theatrically speaking\, of course!
URL:https://visitpikeville.com/event/teen-stage-combat-ages-16-18-2-2-2-2-2/
LOCATION:Appalachian Center for the Arts\, 218 2nd St\,\, Pikeville\, Ky\, 41501
CATEGORIES:The Appalachian Center for the Arts
ATTACH;FMTTYPE=image/jpeg:https://visitpikeville.com/wp-content/uploads/2024/10/combat.jpg
END:VEVENT
END:VCALENDAR