BEGIN:VCALENDAR
VERSION:2.0
PRODID:-//Visit Pikeville - ECPv6.15.20//NONSGML v1.0//EN
CALSCALE:GREGORIAN
METHOD:PUBLISH
X-ORIGINAL-URL:https://visitpikeville.com
X-WR-CALDESC:Events for Visit Pikeville
REFRESH-INTERVAL;VALUE=DURATION:PT1H
X-Robots-Tag:noindex
X-PUBLISHED-TTL:PT1H
BEGIN:VTIMEZONE
TZID:America/Kentucky/Louisville
BEGIN:DAYLIGHT
TZOFFSETFROM:-0500
TZOFFSETTO:-0400
TZNAME:EDT
DTSTART:20230312T070000
END:DAYLIGHT
BEGIN:STANDARD
TZOFFSETFROM:-0400
TZOFFSETTO:-0500
TZNAME:EST
DTSTART:20231105T060000
END:STANDARD
BEGIN:DAYLIGHT
TZOFFSETFROM:-0500
TZOFFSETTO:-0400
TZNAME:EDT
DTSTART:20240310T070000
END:DAYLIGHT
BEGIN:STANDARD
TZOFFSETFROM:-0400
TZOFFSETTO:-0500
TZNAME:EST
DTSTART:20241103T060000
END:STANDARD
BEGIN:DAYLIGHT
TZOFFSETFROM:-0500
TZOFFSETTO:-0400
TZNAME:EDT
DTSTART:20250309T070000
END:DAYLIGHT
BEGIN:STANDARD
TZOFFSETFROM:-0400
TZOFFSETTO:-0500
TZNAME:EST
DTSTART:20251102T060000
END:STANDARD
END:VTIMEZONE
BEGIN:VEVENT
DTSTART;TZID=America/Kentucky/Louisville:20241117T100000
DTEND;TZID=America/Kentucky/Louisville:20241117T180000
DTSTAMP:20260424T214307
CREATED:20241111T201758Z
LAST-MODIFIED:20241111T201758Z
UID:59618-1731837600-1731866400@visitpikeville.com
SUMMARY:Spa Blowout
DESCRIPTION:Hot Tub and Swim Spa Sale\n\n\n\n\nVisit us\nThis Weekend!\n\n\n\n\nHundreds of Spas In Stock and Ready For Delivery!
URL:https://visitpikeville.com/event/spa-blowout-2-2/
LOCATION:Appalachian Wireless Arena\, 126 Main Street\, Pikeville\, Ky\, 41501
CATEGORIES:Appalachian Wireless Arena
ATTACH;FMTTYPE=image/jpeg:https://visitpikeville.com/wp-content/uploads/2024/11/spa-blowout.jpg
END:VEVENT
BEGIN:VEVENT
DTSTART;TZID=America/Kentucky/Louisville:20241117T150000
DTEND;TZID=America/Kentucky/Louisville:20241117T170000
DTSTAMP:20260424T214307
CREATED:20241104T145052Z
LAST-MODIFIED:20241104T145052Z
UID:59298-1731855600-1731862800@visitpikeville.com
SUMMARY:Bluegrass Ensemble Fall Concert
DESCRIPTION:The Bluegrass Ensemble welcomes you to join us at the Benefactor’s Plaza for our Bluegrass Ensemble Fall Concert! Under the direction of Dr. Eric Rutherford\, the Bluegrass Ensemble will be performing traditional Appalachian tunes while you enjoy hot cider\, coffee\, and other light refreshments!\nAdmission is FREE! In the event of rain\, the concert will be held in Chrisman Auditorium.
URL:https://visitpikeville.com/event/bluegrass-ensemble-fall-concert/
LOCATION:Benefactor’s Plaza\, 147 Sycamore Street\, Pikeville\, KY\, 41501\, United States
CATEGORIES:UPike
ATTACH;FMTTYPE=image/jpeg:https://visitpikeville.com/wp-content/uploads/2024/11/bluegrass.jpg
END:VEVENT
END:VCALENDAR