BEGIN:VCALENDAR
VERSION:2.0
PRODID:-//Visit Pikeville - ECPv6.15.20//NONSGML v1.0//EN
CALSCALE:GREGORIAN
METHOD:PUBLISH
X-WR-CALNAME:Visit Pikeville
X-ORIGINAL-URL:https://visitpikeville.com
X-WR-CALDESC:Events for Visit Pikeville
REFRESH-INTERVAL;VALUE=DURATION:PT1H
X-Robots-Tag:noindex
X-PUBLISHED-TTL:PT1H
BEGIN:VTIMEZONE
TZID:America/Kentucky/Louisville
BEGIN:DAYLIGHT
TZOFFSETFROM:-0500
TZOFFSETTO:-0400
TZNAME:EDT
DTSTART:20230312T070000
END:DAYLIGHT
BEGIN:STANDARD
TZOFFSETFROM:-0400
TZOFFSETTO:-0500
TZNAME:EST
DTSTART:20231105T060000
END:STANDARD
BEGIN:DAYLIGHT
TZOFFSETFROM:-0500
TZOFFSETTO:-0400
TZNAME:EDT
DTSTART:20240310T070000
END:DAYLIGHT
BEGIN:STANDARD
TZOFFSETFROM:-0400
TZOFFSETTO:-0500
TZNAME:EST
DTSTART:20241103T060000
END:STANDARD
BEGIN:DAYLIGHT
TZOFFSETFROM:-0500
TZOFFSETTO:-0400
TZNAME:EDT
DTSTART:20250309T070000
END:DAYLIGHT
BEGIN:STANDARD
TZOFFSETFROM:-0400
TZOFFSETTO:-0500
TZNAME:EST
DTSTART:20251102T060000
END:STANDARD
END:VTIMEZONE
BEGIN:VEVENT
DTSTART;TZID=America/Kentucky/Louisville:20241109T080000
DTEND;TZID=America/Kentucky/Louisville:20241109T170000
DTSTAMP:20260424T200531
CREATED:20240812T125634Z
LAST-MODIFIED:20240812T125634Z
UID:55076-1731139200-1731171600@visitpikeville.com
SUMMARY:Country Roads Card And Trade Show
DESCRIPTION:Just announced!!!Country Roads Card And Trade Show will be hosting first Huge Card Show here in Eastern Ky!!70+ Tables in the Appalachian Wireless Arena. On November 9th\, 2024!This event will be focused on Trading cards which include:Sports Cards\, Pokemon\, Magic the Gathering\, Yu-gi-oh\, One Piece\, Digimon\, Flesh and Blood\, Lorcana\, and many more!Free Admission with Door Prizes!!!We will be giving away a Hobby Box and free spots in a live break on another hobby box !!!Tournaments will be held for select TCG games during this dayLive Sports Card breaks from multiple vendors also!!!Interested in being a Vendor?Stop by East Kentucky Cards & Collectibles or PM for details!11085 US Highway 23\, Betsy Layne\, KY\, United States\, Kentuckyhttps://www.facebook.com/profile.php?id=61564060624277…
URL:https://visitpikeville.com/event/country-roads-card-and-trade-show/
LOCATION:Appalachian Wireless Arena\, 126 Main Street\, Pikeville\, Ky\, 41501
CATEGORIES:Appalachian Wireless Arena
ATTACH;FMTTYPE=image/jpeg:https://visitpikeville.com/wp-content/uploads/2024/08/country-roads.jpg
END:VEVENT
BEGIN:VEVENT
DTSTART;TZID=America/Kentucky/Louisville:20241109T080000
DTEND;TZID=America/Kentucky/Louisville:20241109T170000
DTSTAMP:20260424T200531
CREATED:20241028T111619Z
LAST-MODIFIED:20241028T111619Z
UID:59015-1731139200-1731171600@visitpikeville.com
SUMMARY:JJ Weaver
DESCRIPTION:The Secret is out!\n\n\nCountry Roads Card & Trade Show\nis proud to announce that\nUniversity of Kentucky Football standout JJ Weaver will be attending the November 9th show at the Appalachian Wireless Arena.\n\n\nLike and follow our page for more details and announcements!\n\n\nThank you to our sponsors!\nJaded Rayne Printing & Graphic Design\nTexas Roadhouse\nDonnie Keith Prater @ DP Sports Solutions\nEast Kentucky Cards & Collectibles
URL:https://visitpikeville.com/event/jj-weaver/
LOCATION:Appalachian Wireless Arena\, 126 Main Street\, Pikeville\, Ky\, 41501
CATEGORIES:Other
ATTACH;FMTTYPE=image/jpeg:https://visitpikeville.com/wp-content/uploads/2024/10/jj.jpg
END:VEVENT
BEGIN:VEVENT
DTSTART;TZID=America/Kentucky/Louisville:20241109T090000
DTEND;TZID=America/Kentucky/Louisville:20241109T130000
DTSTAMP:20260424T200531
CREATED:20240513T180429Z
LAST-MODIFIED:20240513T180429Z
UID:51311-1731142800-1731157200@visitpikeville.com
SUMMARY:Pikeville Farmer's Market
DESCRIPTION:Tuesday from 4:30-7:00 \nSaturday 9:00-1:00 \n 
URL:https://visitpikeville.com/event/pikeville-farmers-market-5-2-2-2-2-2-2-2-2-2-2-2-2-2-2-2-2-2-2-2-2-2-2-2-2-2-2/
LOCATION:Pikeville Farmer’s Market\, 130 Adams Lane\, Pikeville\, Ky
CATEGORIES:Other
ATTACH;FMTTYPE=image/jpeg:https://visitpikeville.com/wp-content/uploads/2024/05/farmers-market.jpeg
END:VEVENT
BEGIN:VEVENT
DTSTART;TZID=America/Kentucky/Louisville:20241109T100000
DTEND;TZID=America/Kentucky/Louisville:20241109T110000
DTSTAMP:20260424T200531
CREATED:20241014T134250Z
LAST-MODIFIED:20241014T134250Z
UID:58527-1731146400-1731150000@visitpikeville.com
SUMMARY:Creative Play (ages 5-8)
DESCRIPTION:Nov 9th-Dec 7th\, 2024 | $100 for semester\nMeets Saturdays 10:00 – 11:00am\nTaught by Daniela Velasquez and Claudia Dahlman \n\n\n\n\nThis class is for our younger students! This class is designed to get young actors on their feet and explore the vast nature of acting. This class will be dedicated to learning how to explore our imaginations\, create characters\, and move in space with intention. \nCome explore with us!
URL:https://visitpikeville.com/event/creative-play-ages-5-8-4/
LOCATION:Appalachian Center for the Arts\, 218 2nd St\,\, Pikeville\, Ky\, 41501
CATEGORIES:The Appalachian Center for the Arts
ATTACH;FMTTYPE=image/jpeg:https://visitpikeville.com/wp-content/uploads/2024/10/creative.jpg
END:VEVENT
BEGIN:VEVENT
DTSTART;TZID=America/Kentucky/Louisville:20241109T140000
DTEND;TZID=America/Kentucky/Louisville:20241109T150000
DTSTAMP:20260424T200531
CREATED:20241028T111349Z
LAST-MODIFIED:20241028T111349Z
UID:59012-1731160800-1731164400@visitpikeville.com
SUMMARY:Pokemon Trading Card Game
DESCRIPTION:Entry Fee $10
URL:https://visitpikeville.com/event/pokemon-trading-card-game/
LOCATION:Appalachian Wireless Arena\, 126 Main Street\, Pikeville\, Ky\, 41501
CATEGORIES:Other
ATTACH;FMTTYPE=image/jpeg:https://visitpikeville.com/wp-content/uploads/2024/10/pokemon.jpg
END:VEVENT
BEGIN:VEVENT
DTSTART;TZID=America/Kentucky/Louisville:20241109T150000
DTEND;TZID=America/Kentucky/Louisville:20241109T170000
DTSTAMP:20260424T200531
CREATED:20240729T140409Z
LAST-MODIFIED:20240729T140409Z
UID:54214-1731164400-1731171600@visitpikeville.com
SUMMARY:Young Adult Craft Class
DESCRIPTION:This social craft class for young adults ages 18-25 meets alternating Saturdays at 3:00. No registration required.
URL:https://visitpikeville.com/event/young-adult-craft-class-2-2-2-2-2-2/
LOCATION:Pike County Public Library\, 126 Lee Avenue\, Pikeville\, KY\, 41501\, United States
CATEGORIES:Pike County Public Library
ATTACH;FMTTYPE=image/jpeg:https://visitpikeville.com/wp-content/uploads/2024/07/young.jpg
END:VEVENT
BEGIN:VEVENT
DTSTART;TZID=America/Kentucky/Louisville:20241109T150000
DTEND;TZID=America/Kentucky/Louisville:20241109T170000
DTSTAMP:20260424T200531
CREATED:20241104T154305Z
LAST-MODIFIED:20241104T154305Z
UID:59330-1731164400-1731171600@visitpikeville.com
SUMMARY:The Grinch's best buddy
DESCRIPTION:The Grinch’s best buddy is on the schedule on Saturday\, November 9th at 3:00. 11×14 canvas\, $25. Send a private message to reserve.
URL:https://visitpikeville.com/event/the-grinchs-best-buddy/
LOCATION:2 Broke Art Teachers\, 4505 Weddington Square\,\, Pikeville\, KY\, 41501\, United States
CATEGORIES:Other
ATTACH;FMTTYPE=image/jpeg:https://visitpikeville.com/wp-content/uploads/2024/11/grinch-buddy.jpg
END:VEVENT
BEGIN:VEVENT
DTSTART;TZID=America/Kentucky/Louisville:20241109T160000
DTEND;TZID=America/Kentucky/Louisville:20241109T170000
DTSTAMP:20260424T200531
CREATED:20240930T124618Z
LAST-MODIFIED:20240930T124618Z
UID:57727-1731168000-1731171600@visitpikeville.com
SUMMARY:Men's Basketball vs Dalton State University
DESCRIPTION:Game Day!!
URL:https://visitpikeville.com/event/mens-basketball-vs-dalton-state-university/
LOCATION:Appalachian Wireless Arena\, 126 Main Street\, Pikeville\, Ky\, 41501
CATEGORIES:UPike
ATTACH;FMTTYPE=image/png:https://visitpikeville.com/wp-content/uploads/2024/09/Screenshot-2024-09-30-at-8.44.48 AM.png
END:VEVENT
BEGIN:VEVENT
DTSTART;TZID=America/Kentucky/Louisville:20241109T160000
DTEND;TZID=America/Kentucky/Louisville:20241109T170000
DTSTAMP:20260424T200531
CREATED:20241021T122123Z
LAST-MODIFIED:20241021T122123Z
UID:58802-1731168000-1731171600@visitpikeville.com
SUMMARY:Fall Leaf Chalk Art for Tweens
DESCRIPTION:Outline and blend pastels around the edge of fall leaves to create a colorful work of art! Ages 9-12. All materials provided. No registration required.\nThis program will be held at the Pike County Public Library (Lee Avenue) on Saturday\, November 9th at 4:00.
URL:https://visitpikeville.com/event/fall-leaf-chalk-art-for-tweens/
LOCATION:Pike County Public Library\, 126 Lee Avenue\, Pikeville\, KY\, 41501\, United States
CATEGORIES:Pike County Public Library
ATTACH;FMTTYPE=image/jpeg:https://visitpikeville.com/wp-content/uploads/2024/10/fall.jpg
END:VEVENT
BEGIN:VEVENT
DTSTART;TZID=America/Kentucky/Louisville:20241109T183000
DTEND;TZID=America/Kentucky/Louisville:20241109T203000
DTSTAMP:20260424T200531
CREATED:20241028T105502Z
LAST-MODIFIED:20241028T105502Z
UID:59009-1731177000-1731184200@visitpikeville.com
SUMMARY:Thanks-Killing Murder Mystery Dinner
DESCRIPTION:Thanks-Killing invites you to an idyllic holiday gathering that spirals out of control. As the air fills with the aroma of roasted turkey\, pumpkin spice lattes\, and the joy of a family uniting\, the Smothers family comes together for their annual Thanksgiving dinner. However\, beneath the surface of warm smiles and nostalgic tales\, old grudges simmer\, and dark secrets surface leading to. . . MURDER! \nYou are drawn into a whirlwind of intrigue as they join the family members in uncovering the truth. Who could have committed such a heinous act? Was it the resentful cousin who felt overlooked? The ambitious sister with a long-standing rivalry? Or perhaps the seemingly sweet grandmother with a hidden agenda? And when will the cranberry sauce be ready? As the characters navigate a maze of deceit\, their alliances shift\, and motives are unveiled. \nWith interactive and immersive elements\, guests can interrogate suspects\, piece together clues\, and ultimately decide who among the family is the true killer. Join us for a night where the bonds of family are tested\, and trust is as fragile as a Thanksgiving turkey!
URL:https://visitpikeville.com/event/thanks-killing-murder-mystery-dinner/
LOCATION:Appalachian Center for the Arts\, 218 2nd St\,\, Pikeville\, Ky\, 41501
CATEGORIES:The Appalachian Center for the Arts
ATTACH;FMTTYPE=image/jpeg:https://visitpikeville.com/wp-content/uploads/2024/10/murder.jpg
END:VEVENT
BEGIN:VEVENT
DTSTART;TZID=America/Kentucky/Louisville:20241109T200000
DTEND;TZID=America/Kentucky/Louisville:20241109T220000
DTSTAMP:20260424T200531
CREATED:20241028T113238Z
LAST-MODIFIED:20241028T113238Z
UID:59025-1731182400-1731189600@visitpikeville.com
SUMMARY:Them Dirty Vandals
DESCRIPTION:@ Pearse’s Place
URL:https://visitpikeville.com/event/them-dirty-vandals/
LOCATION:Pearse’s Place\, 224 2nd St\,\, Pikeville\, KY\, 41501\, United States
CATEGORIES:Other
ATTACH;FMTTYPE=image/jpeg:https://visitpikeville.com/wp-content/uploads/2024/10/vandals.jpg
END:VEVENT
END:VCALENDAR