BEGIN:VCALENDAR
VERSION:2.0
PRODID:-//Visit Pikeville - ECPv6.15.20//NONSGML v1.0//EN
CALSCALE:GREGORIAN
METHOD:PUBLISH
X-ORIGINAL-URL:https://visitpikeville.com
X-WR-CALDESC:Events for Visit Pikeville
REFRESH-INTERVAL;VALUE=DURATION:PT1H
X-Robots-Tag:noindex
X-PUBLISHED-TTL:PT1H
BEGIN:VTIMEZONE
TZID:America/Kentucky/Louisville
BEGIN:DAYLIGHT
TZOFFSETFROM:-0500
TZOFFSETTO:-0400
TZNAME:EDT
DTSTART:20230312T070000
END:DAYLIGHT
BEGIN:STANDARD
TZOFFSETFROM:-0400
TZOFFSETTO:-0500
TZNAME:EST
DTSTART:20231105T060000
END:STANDARD
BEGIN:DAYLIGHT
TZOFFSETFROM:-0500
TZOFFSETTO:-0400
TZNAME:EDT
DTSTART:20240310T070000
END:DAYLIGHT
BEGIN:STANDARD
TZOFFSETFROM:-0400
TZOFFSETTO:-0500
TZNAME:EST
DTSTART:20241103T060000
END:STANDARD
BEGIN:DAYLIGHT
TZOFFSETFROM:-0500
TZOFFSETTO:-0400
TZNAME:EDT
DTSTART:20250309T070000
END:DAYLIGHT
BEGIN:STANDARD
TZOFFSETFROM:-0400
TZOFFSETTO:-0500
TZNAME:EST
DTSTART:20251102T060000
END:STANDARD
END:VTIMEZONE
BEGIN:VEVENT
DTSTART;TZID=America/Kentucky/Louisville:20241105T163000
DTEND;TZID=America/Kentucky/Louisville:20241105T190000
DTSTAMP:20260424T214407
CREATED:20240513T180342Z
LAST-MODIFIED:20240513T180342Z
UID:51309-1730824200-1730833200@visitpikeville.com
SUMMARY:Pikeville Farmer's Market
DESCRIPTION:Tuesday from 4:30-7:00 \nSaturday 9:00-1:00 \n 
URL:https://visitpikeville.com/event/pikeville-farmers-market-5-3-2-2-3-2-2-2-2-2-2-2-2-2-2-2-2-2-2-2-2-2-2-2-2/
LOCATION:Pikeville Farmer’s Market\, 130 Adams Lane\, Pikeville\, Ky
CATEGORIES:Other
ATTACH;FMTTYPE=image/jpeg:https://visitpikeville.com/wp-content/uploads/2024/05/farmers-market.jpeg
END:VEVENT
BEGIN:VEVENT
DTSTART;TZID=America/Kentucky/Louisville:20241105T170000
DTEND;TZID=America/Kentucky/Louisville:20241105T180000
DTSTAMP:20260424T214407
CREATED:20241014T125225Z
LAST-MODIFIED:20241014T125225Z
UID:58411-1730826000-1730829600@visitpikeville.com
SUMMARY:Teen Improv (ages 13-18)
DESCRIPTION:Nov 5th-Dec 3rd\, 2024 | $100 for semester\nMeets Tuesdays and Thursdays 5:00 – 6:00 pm\nPerformance: December 7th\, 2024\, @ 7:30 pm\nTaught by John Code and Brian Bush \n\n\n\n\nIn this class\, we will work on building the foundations of improvisational acting and comedy as well as refining and sharpening the skills of experienced students and creating a cohesive team of players. \nStudents of all levels are encouraged to join\, whether it is simply to try something new and fun or to improve on past improv experience. We will be working on a wide arrange of improv games that will eventually be incorporated into a public class sharing at the end of the class on December 6th\, which family and friends of all participants are highly encouraged to attend!
URL:https://visitpikeville.com/event/teen-improv-ages-13-18-4/
LOCATION:Appalachian Center for the Arts\, 218 2nd St\,\, Pikeville\, Ky\, 41501
CATEGORIES:The Appalachian Center for the Arts
ATTACH;FMTTYPE=image/jpeg:https://visitpikeville.com/wp-content/uploads/2024/10/teen.jpg
END:VEVENT
BEGIN:VEVENT
DTSTART;TZID=America/Kentucky/Louisville:20241105T170000
DTEND;TZID=America/Kentucky/Louisville:20241105T180000
DTSTAMP:20260424T214407
CREATED:20241021T121652Z
LAST-MODIFIED:20241021T121652Z
UID:58799-1730826000-1730829600@visitpikeville.com
SUMMARY:Leaf Thieves at The Story Trail
DESCRIPTION:That pesky leaf thief has stolen Squirrel’s favorite leaves! Help him find them while you read “The Leaf Thief” by Alice Hemming.\nSteal a (fallen!) leaf yourself along the trail for a prize at the gazebo\, where a quick craft perfect for the autumn season awaits!\nThis program will take place on Tuesday\, November 5th at 5:00 at the Story Trail\, located at Bob Amos Park between the Muddy Boots horse stable and Overlook Events Center. No registration is required.\nIn the event of bad weather\, this program will be postponed.
URL:https://visitpikeville.com/event/leaf-thieves-at-the-story-trail/
LOCATION:Bob Amos Park\, 424 Bob Amos Dr\, Pikeville\, Ky\, 41501
CATEGORIES:City of Pikeville,Pike County Public Library
ATTACH;FMTTYPE=image/jpeg:https://visitpikeville.com/wp-content/uploads/2024/10/leaf.jpg
END:VEVENT
BEGIN:VEVENT
DTSTART;TZID=America/Kentucky/Louisville:20241105T180000
DTEND;TZID=America/Kentucky/Louisville:20241105T190000
DTSTAMP:20260424T214407
CREATED:20241014T130340Z
LAST-MODIFIED:20241014T130340Z
UID:58430-1730829600-1730833200@visitpikeville.com
SUMMARY:Teen Acting (ages 12-18)
DESCRIPTION:Nov 5th-Dec 3rd\, 2024 | $100 for semester\nMeets Tuesdays 6:00 – 7:00 pm\nClass Sharing: December 6th\, 2024\, @ 7:30 pm\nTaught by Daniela Velasquez and Claudia Dahlman \n\n\n\n\nWhether you hope to pursue a career on stage or just want to have fun working with other teens who love theatre\, this class is for you. \nOn stage\, we will learn essential acting techniques and apply them towards monologues and scenes. We will learn how to analyze a script\, and develop an honest\, multi-dimensional character based on the text. \nWhether you are an experienced actor\, or just looking to grow out of your comfort zone\, you will fit in and build your confidence in performing.
URL:https://visitpikeville.com/event/teen-acting-ages-12-18/
LOCATION:Appalachian Center for the Arts\, 218 2nd St\,\, Pikeville\, Ky\, 41501
CATEGORIES:The Appalachian Center for the Arts
ATTACH;FMTTYPE=image/jpeg:https://visitpikeville.com/wp-content/uploads/2024/10/teen-acting.jpg
END:VEVENT
BEGIN:VEVENT
DTSTART;TZID=America/Kentucky/Louisville:20241105T200000
DTEND;TZID=America/Kentucky/Louisville:20241105T220000
DTSTAMP:20260424T214407
CREATED:20241014T133518Z
LAST-MODIFIED:20241014T133518Z
UID:58506-1730836800-1730844000@visitpikeville.com
SUMMARY:Adult Stage Combat (ages 18+)
DESCRIPTION:Nov 5th-Dec 5th\, 2024 | $100 for semester\nMeets Tuesdays and Thursdays 8:00 – 10:00 pm\nClass Sharing: December 6th\, 2024\, @ 7:30 pm\nTaught by Crockett J. Ward with Teaching Assistant Claudia Dahlman \n\n\n\n\nEver wanted to channel your inner action hero without risking your real-life limbs? Welcome to “Fight Club for Grown-Ups\,” a 5-week stage combat class designed for the over-18 crowd who want to master the art of theatrical fisticuffs and dramatic duels—no actual bloodshed required! \nIn this class\, you’ll learn the secrets of stage combat. We’ll cover everything from basic moves to advanced maneuvers\, all while ensuring you leave with a newfound appreciation for the Art of looking like you’re in a high stakes fight without actually breaking anything. \nJoin us for a session of high-energy fun and discover why stage combat is the most entertaining way to throw a punch—figuratively speaking\, of course.
URL:https://visitpikeville.com/event/adult-stage-combat-ages-18/
LOCATION:Appalachian Center for the Arts\, 218 2nd St\,\, Pikeville\, Ky\, 41501
CATEGORIES:The Appalachian Center for the Arts
ATTACH;FMTTYPE=image/jpeg:https://visitpikeville.com/wp-content/uploads/2024/10/adult-combat.jpg
END:VEVENT
END:VCALENDAR