BEGIN:VCALENDAR
VERSION:2.0
PRODID:-//Visit Pikeville - ECPv6.15.20//NONSGML v1.0//EN
CALSCALE:GREGORIAN
METHOD:PUBLISH
X-WR-CALNAME:Visit Pikeville
X-ORIGINAL-URL:https://visitpikeville.com
X-WR-CALDESC:Events for Visit Pikeville
REFRESH-INTERVAL;VALUE=DURATION:PT1H
X-Robots-Tag:noindex
X-PUBLISHED-TTL:PT1H
BEGIN:VTIMEZONE
TZID:America/Kentucky/Louisville
BEGIN:DAYLIGHT
TZOFFSETFROM:-0500
TZOFFSETTO:-0400
TZNAME:EDT
DTSTART:20230312T070000
END:DAYLIGHT
BEGIN:STANDARD
TZOFFSETFROM:-0400
TZOFFSETTO:-0500
TZNAME:EST
DTSTART:20231105T060000
END:STANDARD
BEGIN:DAYLIGHT
TZOFFSETFROM:-0500
TZOFFSETTO:-0400
TZNAME:EDT
DTSTART:20240310T070000
END:DAYLIGHT
BEGIN:STANDARD
TZOFFSETFROM:-0400
TZOFFSETTO:-0500
TZNAME:EST
DTSTART:20241103T060000
END:STANDARD
BEGIN:DAYLIGHT
TZOFFSETFROM:-0500
TZOFFSETTO:-0400
TZNAME:EDT
DTSTART:20250309T070000
END:DAYLIGHT
BEGIN:STANDARD
TZOFFSETFROM:-0400
TZOFFSETTO:-0500
TZNAME:EST
DTSTART:20251102T060000
END:STANDARD
END:VTIMEZONE
BEGIN:VEVENT
DTSTART;TZID=America/Kentucky/Louisville:20241023T073000
DTEND;TZID=America/Kentucky/Louisville:20241023T093000
DTSTAMP:20260424T213502
CREATED:20241008T125545Z
LAST-MODIFIED:20241008T125545Z
UID:58142-1729668600-1729675800@visitpikeville.com
SUMMARY:Coffee and Conversation
DESCRIPTION:Join us at the Chamber for coffee and conversation. Network with Chamber members\, and learn how to join the Southeast Kentucky Chamber. We look forward to starting the day with you\, sharing ideas\, and learning more about your business’s opportunities and challenges!
URL:https://visitpikeville.com/event/coffee-and-conversation-3/
LOCATION:Garfield House\, 178 College Street\, Pikeville\, KY\, 41501\, United States
CATEGORIES:Southeast Kentucky Chamber
ATTACH;FMTTYPE=image/png:https://visitpikeville.com/wp-content/uploads/2024/10/CoffeeConversation.png
END:VEVENT
BEGIN:VEVENT
DTSTART;TZID=America/Kentucky/Louisville:20241023T130000
DTEND;TZID=America/Kentucky/Louisville:20241023T140000
DTSTAMP:20260424T213502
CREATED:20240701T133239Z
LAST-MODIFIED:20240701T133239Z
UID:53077-1729688400-1729692000@visitpikeville.com
SUMMARY:Women's Soccer vs Truett McConnell University
DESCRIPTION:Game Day!
URL:https://visitpikeville.com/event/womens-soccer-vs-truett-mcconnell-university/
LOCATION:Bob Amos Park\, 424 Bob Amos Dr\, Pikeville\, Ky\, 41501
CATEGORIES:UPike
ATTACH;FMTTYPE=image/png:https://visitpikeville.com/wp-content/uploads/2024/07/Screen-Shot-2024-07-01-at-9.29.57-AM.png
END:VEVENT
BEGIN:VEVENT
DTSTART;TZID=America/Kentucky/Louisville:20241023T170000
DTEND;TZID=America/Kentucky/Louisville:20241023T180000
DTSTAMP:20260424T213502
CREATED:20240701T133414Z
LAST-MODIFIED:20240701T133414Z
UID:53080-1729702800-1729706400@visitpikeville.com
SUMMARY:Men's Soccer vs Truett McConnell University
DESCRIPTION:Game Day!
URL:https://visitpikeville.com/event/mens-soccer-vs-truett-mcconnell-university/
LOCATION:Bob Amos Park\, 424 Bob Amos Dr\, Pikeville\, Ky\, 41501
CATEGORIES:UPike
ATTACH;FMTTYPE=image/png:https://visitpikeville.com/wp-content/uploads/2024/07/Screen-Shot-2024-07-01-at-9.32.46-AM.png
END:VEVENT
END:VCALENDAR