BEGIN:VCALENDAR
VERSION:2.0
PRODID:-//Visit Pikeville - ECPv6.15.20//NONSGML v1.0//EN
CALSCALE:GREGORIAN
METHOD:PUBLISH
X-WR-CALNAME:Visit Pikeville
X-ORIGINAL-URL:https://visitpikeville.com
X-WR-CALDESC:Events for Visit Pikeville
REFRESH-INTERVAL;VALUE=DURATION:PT1H
X-Robots-Tag:noindex
X-PUBLISHED-TTL:PT1H
BEGIN:VTIMEZONE
TZID:America/Kentucky/Louisville
BEGIN:DAYLIGHT
TZOFFSETFROM:-0500
TZOFFSETTO:-0400
TZNAME:EDT
DTSTART:20230312T070000
END:DAYLIGHT
BEGIN:STANDARD
TZOFFSETFROM:-0400
TZOFFSETTO:-0500
TZNAME:EST
DTSTART:20231105T060000
END:STANDARD
BEGIN:DAYLIGHT
TZOFFSETFROM:-0500
TZOFFSETTO:-0400
TZNAME:EDT
DTSTART:20240310T070000
END:DAYLIGHT
BEGIN:STANDARD
TZOFFSETFROM:-0400
TZOFFSETTO:-0500
TZNAME:EST
DTSTART:20241103T060000
END:STANDARD
BEGIN:DAYLIGHT
TZOFFSETFROM:-0500
TZOFFSETTO:-0400
TZNAME:EDT
DTSTART:20250309T070000
END:DAYLIGHT
BEGIN:STANDARD
TZOFFSETFROM:-0400
TZOFFSETTO:-0500
TZNAME:EST
DTSTART:20251102T060000
END:STANDARD
END:VTIMEZONE
BEGIN:VEVENT
DTSTART;TZID=America/Kentucky/Louisville:20241016T080000
DTEND;TZID=America/Kentucky/Louisville:20241018T170000
DTSTAMP:20260424T213502
CREATED:20240723T172759Z
LAST-MODIFIED:20240723T172759Z
UID:53826-1729065600-1729270800@visitpikeville.com
SUMMARY:2024 SOAR Summit Expo Hall
DESCRIPTION:Get ready for the 2024 SOAR Summit Expo Hall\, hosted exclusively at the Appalachian Wireless Arena!\n\n\nThis year’s Summit features dedicated time for attendees to explore the Expo Hall\, offering unparalleled opportunities for networking and discovering exhibits. With expanded space for interactive and hands-on exhibits\, the experience will be more enriching than ever.\n\n\nInterested in showcasing your business or organization? Apply now! The deadline is Friday\, August 23.\n\n\nApply here: bit.ly/summitexpohall\n\n\n#SOARSummit24
URL:https://visitpikeville.com/event/2024-soar-summit-expo-hall/
LOCATION:Appalachian Wireless Arena\, 126 Main Street\, Pikeville\, Ky\, 41501
CATEGORIES:Appalachian Wireless Arena
ATTACH;FMTTYPE=image/jpeg:https://visitpikeville.com/wp-content/uploads/2024/07/expo.jpg
END:VEVENT
BEGIN:VEVENT
DTSTART;TZID=America/Kentucky/Louisville:20241018T110000
DTEND;TZID=America/Kentucky/Louisville:20241018T120000
DTSTAMP:20260424T213502
CREATED:20241014T121429Z
LAST-MODIFIED:20241014T121429Z
UID:58396-1729249200-1729252800@visitpikeville.com
SUMMARY:Volleyball vs Montreat College
DESCRIPTION:Game Day!!
URL:https://visitpikeville.com/event/volleyball-vs-montreat-college-2/
LOCATION:UPIKE GYM\, Hibbard St\,\, Pikeville\, KY\, 41501\, United States
CATEGORIES:UPike
ATTACH;FMTTYPE=image/png:https://visitpikeville.com/wp-content/uploads/2024/10/Screenshot-2024-10-14-at-8.13.54 AM.png
END:VEVENT
BEGIN:VEVENT
DTSTART;TZID=America/Kentucky/Louisville:20241018T110000
DTEND;TZID=America/Kentucky/Louisville:20241018T130000
DTSTAMP:20260424T213502
CREATED:20240930T154004Z
LAST-MODIFIED:20240930T154004Z
UID:57886-1729249200-1729256400@visitpikeville.com
SUMMARY:Special Olympics Meet & Greet
DESCRIPTION:Athletes and Volunteers Needed! Special Olympics Kentucky is starting a program in Pike County to offer year-round sports and training competition for individuals with intellectual disabilities.
URL:https://visitpikeville.com/event/special-olympics-meet-greet-2/
LOCATION:Pike County Public Library\, 126 Lee Avenue\, Pikeville\, KY\, 41501\, United States
CATEGORIES:Pike County Public Library
ATTACH;FMTTYPE=image/jpeg:https://visitpikeville.com/wp-content/uploads/2024/09/Special_Olympics_Meet_n_Greet.jpg
END:VEVENT
BEGIN:VEVENT
DTSTART;TZID=America/Kentucky/Louisville:20241018T163000
DTEND;TZID=America/Kentucky/Louisville:20241018T200000
DTSTAMP:20260424T213502
CREATED:20241008T144941Z
LAST-MODIFIED:20241008T144941Z
UID:58180-1729269000-1729281600@visitpikeville.com
SUMMARY:Grand Opening Harvest Fest
DESCRIPTION:Join us to celebrate the grand opening of the reimagined Log Cabin restaurant and surrounding buildings! Now known as The Troubadour\, our hospitality collective offers 5 guest suites\, private event spaces\, patio\, garden\, and the soon-to-open GRAZE Café and Market!\n4:30 PM Ribbon Cutting\n4:30 PM – 8 PM Tour our grounds\, suites\, and venue spaces!\n Sip on specialty ciders and cocktails\n Purchase stacking pumpkins and huge mums\n Enjoy live music by the fireside\, yard games\, and s’mores\n Stroll through our vendor market\n6 PM – 7:30 PM Attend our ticketed charcuterie board making class ($65 per person)\n8 PM End the night with our first ever outdoor movie showing: Halloween style
URL:https://visitpikeville.com/event/grand-opening-harvest-fest/
LOCATION:The Troubadour\, 502 Town Mountain Road\,\, Pikeville\, KY\, 41501\, United States
CATEGORIES:Other
ATTACH;FMTTYPE=image/jpeg:https://visitpikeville.com/wp-content/uploads/2024/10/fallfest.jpg
END:VEVENT
BEGIN:VEVENT
DTSTART;TZID=America/Kentucky/Louisville:20241018T163000
DTEND;TZID=America/Kentucky/Louisville:20241018T200000
DTSTAMP:20260424T213502
CREATED:20241014T120330Z
LAST-MODIFIED:20241014T120330Z
UID:58393-1729269000-1729281600@visitpikeville.com
SUMMARY:Ribbon Cutting: Twn Mtn Troubadour
DESCRIPTION:Friday Oct 18\, 2024\n4:30 PM – 8:00 PM EDT
URL:https://visitpikeville.com/event/ribbon-cutting-twn-mtn-troubadour/
LOCATION:The Troubadour\, 502 Town Mountain Road\,\, Pikeville\, KY\, 41501\, United States
CATEGORIES:Southeast Kentucky Chamber
ATTACH;FMTTYPE=image/png:https://visitpikeville.com/wp-content/uploads/2024/10/RibbonCutting-TwnMtnTroubadour.png
END:VEVENT
BEGIN:VEVENT
DTSTART;TZID=America/Kentucky/Louisville:20241018T170000
DTEND;TZID=America/Kentucky/Louisville:20241018T180000
DTSTAMP:20260424T213502
CREATED:20240930T152109Z
LAST-MODIFIED:20240930T152109Z
UID:57863-1729270800-1729274400@visitpikeville.com
SUMMARY:Toddler Piano Time
DESCRIPTION:Explore the piano in this Music Appreciation class for ages under 5! Meets alternating Fridays at 5:00. Registration is required. Please call the library to register: 606-437-6001.
URL:https://visitpikeville.com/event/toddler-piano-time-2-2-2/
LOCATION:Pike County Public Library\, 126 Lee Avenue\, Pikeville\, KY\, 41501\, United States
CATEGORIES:Pike County Public Library
ATTACH;FMTTYPE=image/png:https://visitpikeville.com/wp-content/uploads/2024/09/Toddler_Piano_Time.png
END:VEVENT
BEGIN:VEVENT
DTSTART;TZID=America/Kentucky/Louisville:20241018T173000
DTEND;TZID=America/Kentucky/Louisville:20241018T200000
DTSTAMP:20260424T213502
CREATED:20241014T143956Z
LAST-MODIFIED:20241014T143956Z
UID:58560-1729272600-1729281600@visitpikeville.com
SUMMARY:Painting Class
DESCRIPTION:16″ X 20″ Canvas
URL:https://visitpikeville.com/event/painting-class/
LOCATION:2 Broke Art Teachers\, 4505 Weddington Square\,\, Pikeville\, KY\, 41501\, United States
CATEGORIES:Other
ATTACH;FMTTYPE=image/jpeg:https://visitpikeville.com/wp-content/uploads/2024/10/18.jpg
END:VEVENT
BEGIN:VEVENT
DTSTART;TZID=America/Kentucky/Louisville:20241018T180000
DTEND;TZID=America/Kentucky/Louisville:20241018T210000
DTSTAMP:20260424T213502
CREATED:20240722T134948Z
LAST-MODIFIED:20240722T134948Z
UID:53742-1729274400-1729285200@visitpikeville.com
SUMMARY:Good Ole Boys Rods & Cruisers Cruise-In By The River Event Series
DESCRIPTION:Attention all car enthusiasts and lovers of classic rides! Good Ole Boys Rods & Cruisers is back with their thrilling cruise-in event series for 2024 in Pikeville\, Kentucky. Each cruise-in event kicks off at 6:00 PM\, promising an evening filled with excitement\, camaraderie\, and\, of course\, some seriously cool cars. Located behind popular spots like Pikeville Kentucky’s Applebee’s\, Arby’s\, and McDonald’s\, this gathering is not just about showcasing stunning vehicles; it’s about creating unforgettable memories with fellow car enthusiasts. \nWith door prizes\, music\, and more surprises in store\, there’s never a dull moment. Plus\, don’t forget to grab your very own dash plaque to commemorate the occasion. \n  \nCruise In Event Dates: \n\nMay 17th\nJune 21st\nJuly 19th\nAugust 16th\nSeptember 20th\nOctober 18th\n\nSpecial Highlight: October 18th Grand Prize Drawing \nMake sure you circle October 18th on your calendar with a bold marker because it’s not just any ordinary cruise-in day. Good Ole Boys Rods & Cruisers has something extra special planned for this date – a Grand Prize Drawing! But here’s the catch: you must be present to win\, so don’t miss out on your chance to take home an amazing prize. \nRain Date Policy: Mother Nature sometimes has her own plans\, but fear not! In the event of rain\, the cruise-in will be rescheduled for the following Friday. So\, keep an eye on the weather forecast and be prepared for an evening of fun.
URL:https://visitpikeville.com/event/good-ole-boys-rods-cruisers-cruise-in-by-the-river-event-series-2-2/
LOCATION:Applebee’s\, 172 Cassidy Blvd\,\, Pikeville\, KY\, 41501\, United States
CATEGORIES:Other
ATTACH;FMTTYPE=image/webp:https://visitpikeville.com/wp-content/uploads/2024/07/Good-ole-boys.webp
END:VEVENT
BEGIN:VEVENT
DTSTART;TZID=America/Kentucky/Louisville:20241018T180000
DTEND;TZID=America/Kentucky/Louisville:20241018T210000
DTSTAMP:20260424T213502
CREATED:20241008T145436Z
LAST-MODIFIED:20241008T145436Z
UID:58184-1729274400-1729285200@visitpikeville.com
SUMMARY:Bash in the Park
DESCRIPTION:Do you have a food truck vendor and would like to set up during our Bash in the Park? Or are you a business that would like to hand out candy during trick or treating?Contact Jennifer at 606-437-6032 or at jenniferfraley@coalrunky.gov.
URL:https://visitpikeville.com/event/bash-in-the-park/
LOCATION:Coal Run City Park\, 105 Church St\,\, Pikeville\, KY\, 41501\, United States
CATEGORIES:Southeast Kentucky Chamber
ATTACH;FMTTYPE=image/jpeg:https://visitpikeville.com/wp-content/uploads/2024/10/bash-in-the-park.jpg
END:VEVENT
BEGIN:VEVENT
DTSTART;TZID=America/Kentucky/Louisville:20241018T180000
DTEND;TZID=America/Kentucky/Louisville:20241018T210000
DTSTAMP:20260424T213502
CREATED:20241014T135505Z
LAST-MODIFIED:20241014T135505Z
UID:58538-1729274400-1729285200@visitpikeville.com
SUMMARY:Pikeville Night Market
DESCRIPTION:Join us for the 5th and final Pikeville Night Market of the season in downtown Pikeville on Friday\, October 18th\, from 6-9 PM!  If you’re an artisan or crafter interested in participating\, please send us a message. We’d love to have you join us!
URL:https://visitpikeville.com/event/pikeville-night-market/
LOCATION:Downtown Pikeville\, Pikeville\, Ky\, 41501
CATEGORIES:City of Pikeville,Pikeville Tourism
ATTACH;FMTTYPE=image/jpeg:https://visitpikeville.com/wp-content/uploads/2024/10/night-market.jpg
END:VEVENT
BEGIN:VEVENT
DTSTART;TZID=America/Kentucky/Louisville:20241018T193000
DTEND;TZID=America/Kentucky/Louisville:20241018T213000
DTSTAMP:20260424T213502
CREATED:20231218T140012Z
LAST-MODIFIED:20231218T140012Z
UID:44077-1729279800-1729287000@visitpikeville.com
SUMMARY:Sleep in Safety - The Death of Octavia Hatcher
DESCRIPTION:Since the early part of the 20th century\, Octavia Hatcher’s monument has watched over the city of Pikeville from the cemetery on the hill. Octavia’s brief marriage to prominent Pikeville businessman James Hatcher ended suddenly when she suffered an unknown illness that resulted in her being buried alive. This original\, tragic story of her life and death is a chilling account which may explain why many say her spirit walks the graveyard to this day.
URL:https://visitpikeville.com/event/sleep-in-safety-the-death-of-octavia-hatcher-2-2-2-2/
LOCATION:Appalachian Center for the Arts\, 218 2nd St\,\, Pikeville\, Ky\, 41501
CATEGORIES:The Appalachian Center for the Arts
ATTACH;FMTTYPE=image/webp:https://visitpikeville.com/wp-content/uploads/2023/12/octvia-web-600.webp
END:VEVENT
BEGIN:VEVENT
DTSTART;TZID=America/Kentucky/Louisville:20241018T193000
DTEND;TZID=America/Kentucky/Louisville:20241018T213000
DTSTAMP:20260424T213502
CREATED:20240916T144141Z
LAST-MODIFIED:20240916T144141Z
UID:57167-1729279800-1729287000@visitpikeville.com
SUMMARY:Wait Until Dark
DESCRIPTION:Opening night of our 2024-2025 season!
URL:https://visitpikeville.com/event/wait-until-dark-2-2-2-2-2/
LOCATION:Pikeville High School\, 120 Championship Dr\,\, Pikeville\, KY\, 41501\, United States
CATEGORIES:Other
ATTACH;FMTTYPE=image/jpeg:https://visitpikeville.com/wp-content/uploads/2024/09/act.jpg
END:VEVENT
END:VCALENDAR