BEGIN:VCALENDAR
VERSION:2.0
PRODID:-//Visit Pikeville - ECPv6.15.20//NONSGML v1.0//EN
CALSCALE:GREGORIAN
METHOD:PUBLISH
X-ORIGINAL-URL:https://visitpikeville.com
X-WR-CALDESC:Events for Visit Pikeville
REFRESH-INTERVAL;VALUE=DURATION:PT1H
X-Robots-Tag:noindex
X-PUBLISHED-TTL:PT1H
BEGIN:VTIMEZONE
TZID:America/Kentucky/Louisville
BEGIN:DAYLIGHT
TZOFFSETFROM:-0500
TZOFFSETTO:-0400
TZNAME:EDT
DTSTART:20230312T070000
END:DAYLIGHT
BEGIN:STANDARD
TZOFFSETFROM:-0400
TZOFFSETTO:-0500
TZNAME:EST
DTSTART:20231105T060000
END:STANDARD
BEGIN:DAYLIGHT
TZOFFSETFROM:-0500
TZOFFSETTO:-0400
TZNAME:EDT
DTSTART:20240310T070000
END:DAYLIGHT
BEGIN:STANDARD
TZOFFSETFROM:-0400
TZOFFSETTO:-0500
TZNAME:EST
DTSTART:20241103T060000
END:STANDARD
BEGIN:DAYLIGHT
TZOFFSETFROM:-0500
TZOFFSETTO:-0400
TZNAME:EDT
DTSTART:20250309T070000
END:DAYLIGHT
BEGIN:STANDARD
TZOFFSETFROM:-0400
TZOFFSETTO:-0500
TZNAME:EST
DTSTART:20251102T060000
END:STANDARD
END:VTIMEZONE
BEGIN:VEVENT
DTSTART;TZID=America/Kentucky/Louisville:20240611T163000
DTEND;TZID=America/Kentucky/Louisville:20240611T190000
DTSTAMP:20260425T070319
CREATED:20240513T171111Z
LAST-MODIFIED:20240513T171111Z
UID:51219-1718123400-1718132400@visitpikeville.com
SUMMARY:Pikeville Farmer's Market
DESCRIPTION:Tuesday from 4:30-7:00 \nSaturday 9:00-1:00 \n 
URL:https://visitpikeville.com/event/pikeville-farmers-market-5-3-2-2/
LOCATION:Pikeville Farmer’s Market\, 130 Adams Lane\, Pikeville\, Ky
CATEGORIES:Other
ATTACH;FMTTYPE=image/jpeg:https://visitpikeville.com/wp-content/uploads/2024/05/farmers-market.jpeg
END:VEVENT
BEGIN:VEVENT
DTSTART;TZID=America/Kentucky/Louisville:20240611T173000
DTEND;TZID=America/Kentucky/Louisville:20240611T183000
DTSTAMP:20260425T070319
CREATED:20240513T185233Z
LAST-MODIFIED:20240513T185233Z
UID:51389-1718127000-1718130600@visitpikeville.com
SUMMARY:Cryptid Scavenger Hunt
DESCRIPTION:Embark on a mysterious journey through the library in search of hidden clues in this cryptid-themed scavenger hunt on Tuesday\, June 11 at 5:30 for ages 6-12.\nThis program will be held at the Pike County Public Library (Lee Avenue)\, Belfry Public Library\, Elkhorn City Public Library\, Phelps Public Library\, and Vesta Roberts Johnson Memorial Library. No registration is required.
URL:https://visitpikeville.com/event/cryptid-scavenger-hunt/
LOCATION:Pike County Public Library\, 126 Lee Avenue\, Pikeville\, KY\, 41501\, United States
CATEGORIES:Pike County Public Library
ATTACH;FMTTYPE=image/jpeg:https://visitpikeville.com/wp-content/uploads/2024/05/cryptid.jpeg
END:VEVENT
END:VCALENDAR